BEGIN:VCALENDAR
VERSION:2.0
PRODID:-//de Duck - ECPv6.15.20//NONSGML v1.0//EN
CALSCALE:GREGORIAN
METHOD:PUBLISH
X-WR-CALNAME:de Duck
X-ORIGINAL-URL:https://www.deduck.nl
X-WR-CALDESC:Events for de Duck
REFRESH-INTERVAL;VALUE=DURATION:PT1H
X-Robots-Tag:noindex
X-PUBLISHED-TTL:PT1H
BEGIN:VTIMEZONE
TZID:Europe/Amsterdam
BEGIN:DAYLIGHT
TZOFFSETFROM:+0100
TZOFFSETTO:+0200
TZNAME:CEST
DTSTART:20230326T010000
END:DAYLIGHT
BEGIN:STANDARD
TZOFFSETFROM:+0200
TZOFFSETTO:+0100
TZNAME:CET
DTSTART:20231029T010000
END:STANDARD
BEGIN:DAYLIGHT
TZOFFSETFROM:+0100
TZOFFSETTO:+0200
TZNAME:CEST
DTSTART:20240331T010000
END:DAYLIGHT
BEGIN:STANDARD
TZOFFSETFROM:+0200
TZOFFSETTO:+0100
TZNAME:CET
DTSTART:20241027T010000
END:STANDARD
BEGIN:DAYLIGHT
TZOFFSETFROM:+0100
TZOFFSETTO:+0200
TZNAME:CEST
DTSTART:20250330T010000
END:DAYLIGHT
BEGIN:STANDARD
TZOFFSETFROM:+0200
TZOFFSETTO:+0100
TZNAME:CET
DTSTART:20251026T010000
END:STANDARD
END:VTIMEZONE
BEGIN:VEVENT
DTSTART;TZID=Europe/Amsterdam:20240909T084500
DTEND;TZID=Europe/Amsterdam:20240909T170000
DTSTAMP:20260423T114137
CREATED:20241130T211255Z
LAST-MODIFIED:20241130T211255Z
UID:10707-1725871500-1725901200@www.deduck.nl
SUMMARY:Wedstrijd
DESCRIPTION:Provinciale zomerkampioenschappen
URL:https://www.deduck.nl/event/wedstrijd-6/
LOCATION:Zwemcentrum Rotterdam\, Annie M.G. Schmidtplein 8\, Rotterdam\, Zuid-Holland\, 3083 NZ\, Netherlands
CATEGORIES:Wedstrijd
ATTACH;FMTTYPE=image/png:https://www.deduck.nl/wp-content/uploads/2024/11/wedstrijd.png
END:VEVENT
BEGIN:VEVENT
DTSTART;TZID=Europe/Amsterdam:20240904T084500
DTEND;TZID=Europe/Amsterdam:20240904T170000
DTSTAMP:20260423T114137
CREATED:20241130T211324Z
LAST-MODIFIED:20241130T211324Z
UID:10715-1725439500-1725469200@www.deduck.nl
SUMMARY:Wedstrijd
DESCRIPTION:ONMK korte baan
URL:https://www.deduck.nl/event/wedstrijd-14/
CATEGORIES:Wedstrijd
ATTACH;FMTTYPE=image/png:https://www.deduck.nl/wp-content/uploads/2024/11/wedstrijd.png
END:VEVENT
END:VCALENDAR