BEGIN:VCALENDAR
VERSION:2.0
PRODID:-//de Duck - ECPv6.15.20//NONSGML v1.0//EN
CALSCALE:GREGORIAN
METHOD:PUBLISH
X-WR-CALNAME:de Duck
X-ORIGINAL-URL:https://www.deduck.nl
X-WR-CALDESC:Events for de Duck
REFRESH-INTERVAL;VALUE=DURATION:PT1H
X-Robots-Tag:noindex
X-PUBLISHED-TTL:PT1H
BEGIN:VTIMEZONE
TZID:Europe/Amsterdam
BEGIN:DAYLIGHT
TZOFFSETFROM:+0100
TZOFFSETTO:+0200
TZNAME:CEST
DTSTART:20240331T010000
END:DAYLIGHT
BEGIN:STANDARD
TZOFFSETFROM:+0200
TZOFFSETTO:+0100
TZNAME:CET
DTSTART:20241027T010000
END:STANDARD
BEGIN:DAYLIGHT
TZOFFSETFROM:+0100
TZOFFSETTO:+0200
TZNAME:CEST
DTSTART:20250330T010000
END:DAYLIGHT
BEGIN:STANDARD
TZOFFSETFROM:+0200
TZOFFSETTO:+0100
TZNAME:CET
DTSTART:20251026T010000
END:STANDARD
BEGIN:DAYLIGHT
TZOFFSETFROM:+0100
TZOFFSETTO:+0200
TZNAME:CEST
DTSTART:20260329T010000
END:DAYLIGHT
BEGIN:STANDARD
TZOFFSETFROM:+0200
TZOFFSETTO:+0100
TZNAME:CET
DTSTART:20261025T010000
END:STANDARD
END:VTIMEZONE
BEGIN:VEVENT
DTSTART;TZID=Europe/Amsterdam:20250823T080000
DTEND;TZID=Europe/Amsterdam:20250823T090000
DTSTAMP:20260422T145832
CREATED:20241130T211210Z
LAST-MODIFIED:20241130T211210Z
UID:10692-1755936000-1755939600@www.deduck.nl
SUMMARY:Training
DESCRIPTION:Training – alle zwemgroepen alle leeftijden
URL:https://www.deduck.nl/event/training-578/
LOCATION:Zwembad De Dukdalf\, De Reede 2a\, Brielle\, 3232 CV\, Netherlands
CATEGORIES:Training
ATTACH;FMTTYPE=image/png:https://www.deduck.nl/wp-content/uploads/2024/11/voeten.png
END:VEVENT
BEGIN:VEVENT
DTSTART;TZID=Europe/Amsterdam:20250821T190000
DTEND;TZID=Europe/Amsterdam:20250821T200000
DTSTAMP:20260422T145832
CREATED:20241130T210058Z
LAST-MODIFIED:20241130T210058Z
UID:10619-1755802800-1755806400@www.deduck.nl
SUMMARY:Training
DESCRIPTION:Training – wedstrijdzwemmers vanaf 18 jaar alle niveaus
URL:https://www.deduck.nl/event/training-510/
LOCATION:Zwembad De Dukdalf\, De Reede 2a\, Brielle\, 3232 CV\, Netherlands
CATEGORIES:Training
ATTACH;FMTTYPE=image/png:https://www.deduck.nl/wp-content/uploads/2024/11/voeten.png
END:VEVENT
BEGIN:VEVENT
DTSTART;TZID=Europe/Amsterdam:20250821T180000
DTEND;TZID=Europe/Amsterdam:20250821T190000
DTSTAMP:20260422T145832
CREATED:20241130T204741Z
LAST-MODIFIED:20241130T204741Z
UID:10576-1755799200-1755802800@www.deduck.nl
SUMMARY:Training
DESCRIPTION:Training – wedstrijdzwemmers t/m 17 jaar alle niveaus
URL:https://www.deduck.nl/event/training-473/
LOCATION:Zwembad De Dukdalf\, De Reede 2a\, Brielle\, 3232 CV\, Netherlands
CATEGORIES:Training
ATTACH;FMTTYPE=image/png:https://www.deduck.nl/wp-content/uploads/2024/11/voeten.png
END:VEVENT
BEGIN:VEVENT
DTSTART;TZID=Europe/Amsterdam:20250819T200000
DTEND;TZID=Europe/Amsterdam:20250819T210000
DTSTAMP:20260422T145832
CREATED:20241130T204240Z
LAST-MODIFIED:20241130T204240Z
UID:10539-1755633600-1755637200@www.deduck.nl
SUMMARY:Training
DESCRIPTION:Training – wedstrijdzwemmers alle leeftijden alle niveaus
URL:https://www.deduck.nl/event/training-436/
LOCATION:Zwembad De Dukdalf\, De Reede 2a\, Brielle\, 3232 CV\, Netherlands
CATEGORIES:Training
ATTACH;FMTTYPE=image/png:https://www.deduck.nl/wp-content/uploads/2024/11/voeten.png
END:VEVENT
BEGIN:VEVENT
DTSTART;TZID=Europe/Amsterdam:20250818T191500
DTEND;TZID=Europe/Amsterdam:20250831T201500
DTSTAMP:20260422T145832
CREATED:20241130T203505Z
LAST-MODIFIED:20241130T203505Z
UID:10495-1755544500-1756671300@www.deduck.nl
SUMMARY:Training
DESCRIPTION:Training – wedstrijdzwemmers vanaf 18 jaar alle niveaus
URL:https://www.deduck.nl/event/training-392/
LOCATION:Zwembad De Dukdalf\, De Reede 2a\, Brielle\, 3232 CV\, Netherlands
CATEGORIES:Training
ATTACH;FMTTYPE=image/png:https://www.deduck.nl/wp-content/uploads/2024/11/voeten.png
END:VEVENT
BEGIN:VEVENT
DTSTART;TZID=Europe/Amsterdam:20250818T181500
DTEND;TZID=Europe/Amsterdam:20250831T191500
DTSTAMP:20260422T145832
CREATED:20241130T203252Z
LAST-MODIFIED:20241130T203252Z
UID:10452-1755540900-1756667700@www.deduck.nl
SUMMARY:Training
DESCRIPTION:Training – wedstrijdzwemmers en triatleten vanaf 16 jaar
URL:https://www.deduck.nl/event/training-349/
LOCATION:Zwembad De Dukdalf\, De Reede 2a\, Brielle\, 3232 CV\, Netherlands
CATEGORIES:Training
ATTACH;FMTTYPE=image/png:https://www.deduck.nl/wp-content/uploads/2024/11/voeten.png
END:VEVENT
BEGIN:VEVENT
DTSTART;TZID=Europe/Amsterdam:20250816T080000
DTEND;TZID=Europe/Amsterdam:20250816T090000
DTSTAMP:20260422T145832
CREATED:20241130T211209Z
LAST-MODIFIED:20241130T211209Z
UID:10691-1755331200-1755334800@www.deduck.nl
SUMMARY:Training
DESCRIPTION:Training – alle zwemgroepen alle leeftijden
URL:https://www.deduck.nl/event/training-577/
LOCATION:Zwembad De Dukdalf\, De Reede 2a\, Brielle\, 3232 CV\, Netherlands
CATEGORIES:Training
ATTACH;FMTTYPE=image/png:https://www.deduck.nl/wp-content/uploads/2024/11/voeten.png
END:VEVENT
BEGIN:VEVENT
DTSTART;TZID=Europe/Amsterdam:20250814T190000
DTEND;TZID=Europe/Amsterdam:20250814T200000
DTSTAMP:20260422T145832
CREATED:20241130T210051Z
LAST-MODIFIED:20241130T210051Z
UID:10618-1755198000-1755201600@www.deduck.nl
SUMMARY:Training
DESCRIPTION:Training – wedstrijdzwemmers vanaf 18 jaar alle niveaus
URL:https://www.deduck.nl/event/training-509/
LOCATION:Zwembad De Dukdalf\, De Reede 2a\, Brielle\, 3232 CV\, Netherlands
CATEGORIES:Training
ATTACH;FMTTYPE=image/png:https://www.deduck.nl/wp-content/uploads/2024/11/voeten.png
END:VEVENT
BEGIN:VEVENT
DTSTART;TZID=Europe/Amsterdam:20250814T180000
DTEND;TZID=Europe/Amsterdam:20250814T190000
DTSTAMP:20260422T145832
CREATED:20241130T204740Z
LAST-MODIFIED:20241130T204740Z
UID:10575-1755194400-1755198000@www.deduck.nl
SUMMARY:Training
DESCRIPTION:Training – wedstrijdzwemmers t/m 17 jaar alle niveaus
URL:https://www.deduck.nl/event/training-472/
LOCATION:Zwembad De Dukdalf\, De Reede 2a\, Brielle\, 3232 CV\, Netherlands
CATEGORIES:Training
ATTACH;FMTTYPE=image/png:https://www.deduck.nl/wp-content/uploads/2024/11/voeten.png
END:VEVENT
BEGIN:VEVENT
DTSTART;TZID=Europe/Amsterdam:20250812T200000
DTEND;TZID=Europe/Amsterdam:20250812T210000
DTSTAMP:20260422T145832
CREATED:20241130T204239Z
LAST-MODIFIED:20241130T204239Z
UID:10538-1755028800-1755032400@www.deduck.nl
SUMMARY:Training
DESCRIPTION:Training – wedstrijdzwemmers alle leeftijden alle niveaus
URL:https://www.deduck.nl/event/training-435/
LOCATION:Zwembad De Dukdalf\, De Reede 2a\, Brielle\, 3232 CV\, Netherlands
CATEGORIES:Training
ATTACH;FMTTYPE=image/png:https://www.deduck.nl/wp-content/uploads/2024/11/voeten.png
END:VEVENT
BEGIN:VEVENT
DTSTART;TZID=Europe/Amsterdam:20250811T191500
DTEND;TZID=Europe/Amsterdam:20250824T201500
DTSTAMP:20260422T145832
CREATED:20241130T203453Z
LAST-MODIFIED:20241130T203453Z
UID:10494-1754939700-1756066500@www.deduck.nl
SUMMARY:Training
DESCRIPTION:Training – wedstrijdzwemmers vanaf 18 jaar alle niveaus
URL:https://www.deduck.nl/event/training-391/
LOCATION:Zwembad De Dukdalf\, De Reede 2a\, Brielle\, 3232 CV\, Netherlands
CATEGORIES:Training
ATTACH;FMTTYPE=image/png:https://www.deduck.nl/wp-content/uploads/2024/11/voeten.png
END:VEVENT
BEGIN:VEVENT
DTSTART;TZID=Europe/Amsterdam:20250811T181500
DTEND;TZID=Europe/Amsterdam:20250824T191500
DTSTAMP:20260422T145832
CREATED:20241130T203251Z
LAST-MODIFIED:20241130T203251Z
UID:10451-1754936100-1756062900@www.deduck.nl
SUMMARY:Training
DESCRIPTION:Training – wedstrijdzwemmers en triatleten vanaf 16 jaar
URL:https://www.deduck.nl/event/training-348/
LOCATION:Zwembad De Dukdalf\, De Reede 2a\, Brielle\, 3232 CV\, Netherlands
CATEGORIES:Training
ATTACH;FMTTYPE=image/png:https://www.deduck.nl/wp-content/uploads/2024/11/voeten.png
END:VEVENT
BEGIN:VEVENT
DTSTART;TZID=Europe/Amsterdam:20250809T080000
DTEND;TZID=Europe/Amsterdam:20250809T090000
DTSTAMP:20260422T145832
CREATED:20241130T211156Z
LAST-MODIFIED:20241130T211156Z
UID:10690-1754726400-1754730000@www.deduck.nl
SUMMARY:Training
DESCRIPTION:Training – alle zwemgroepen alle leeftijden
URL:https://www.deduck.nl/event/training-576/
LOCATION:Zwembad De Dukdalf\, De Reede 2a\, Brielle\, 3232 CV\, Netherlands
CATEGORIES:Training
ATTACH;FMTTYPE=image/png:https://www.deduck.nl/wp-content/uploads/2024/11/voeten.png
END:VEVENT
BEGIN:VEVENT
DTSTART;TZID=Europe/Amsterdam:20250807T190000
DTEND;TZID=Europe/Amsterdam:20250807T200000
DTSTAMP:20260422T145832
CREATED:20241130T210051Z
LAST-MODIFIED:20241130T210051Z
UID:10617-1754593200-1754596800@www.deduck.nl
SUMMARY:Training
DESCRIPTION:Training – wedstrijdzwemmers vanaf 18 jaar alle niveaus
URL:https://www.deduck.nl/event/training-508/
LOCATION:Zwembad De Dukdalf\, De Reede 2a\, Brielle\, 3232 CV\, Netherlands
CATEGORIES:Training
ATTACH;FMTTYPE=image/png:https://www.deduck.nl/wp-content/uploads/2024/11/voeten.png
END:VEVENT
BEGIN:VEVENT
DTSTART;TZID=Europe/Amsterdam:20250807T180000
DTEND;TZID=Europe/Amsterdam:20250807T190000
DTSTAMP:20260422T145832
CREATED:20241130T204739Z
LAST-MODIFIED:20241130T204739Z
UID:10574-1754589600-1754593200@www.deduck.nl
SUMMARY:Training
DESCRIPTION:Training – wedstrijdzwemmers t/m 17 jaar alle niveaus
URL:https://www.deduck.nl/event/training-471/
LOCATION:Zwembad De Dukdalf\, De Reede 2a\, Brielle\, 3232 CV\, Netherlands
CATEGORIES:Training
ATTACH;FMTTYPE=image/png:https://www.deduck.nl/wp-content/uploads/2024/11/voeten.png
END:VEVENT
BEGIN:VEVENT
DTSTART;TZID=Europe/Amsterdam:20250805T200000
DTEND;TZID=Europe/Amsterdam:20250805T210000
DTSTAMP:20260422T145832
CREATED:20241130T204041Z
LAST-MODIFIED:20241130T204041Z
UID:10537-1754424000-1754427600@www.deduck.nl
SUMMARY:Training
DESCRIPTION:Training – wedstrijdzwemmers alle leeftijden alle niveaus
URL:https://www.deduck.nl/event/training-434/
LOCATION:Zwembad De Dukdalf\, De Reede 2a\, Brielle\, 3232 CV\, Netherlands
CATEGORIES:Training
ATTACH;FMTTYPE=image/png:https://www.deduck.nl/wp-content/uploads/2024/11/voeten.png
END:VEVENT
BEGIN:VEVENT
DTSTART;TZID=Europe/Amsterdam:20250804T191500
DTEND;TZID=Europe/Amsterdam:20250817T201500
DTSTAMP:20260422T145832
CREATED:20241130T203452Z
LAST-MODIFIED:20241130T203452Z
UID:10493-1754334900-1755461700@www.deduck.nl
SUMMARY:Training
DESCRIPTION:Training – wedstrijdzwemmers vanaf 18 jaar alle niveaus
URL:https://www.deduck.nl/event/training-390/
LOCATION:Zwembad De Dukdalf\, De Reede 2a\, Brielle\, 3232 CV\, Netherlands
CATEGORIES:Training
ATTACH;FMTTYPE=image/png:https://www.deduck.nl/wp-content/uploads/2024/11/voeten.png
END:VEVENT
BEGIN:VEVENT
DTSTART;TZID=Europe/Amsterdam:20250804T181500
DTEND;TZID=Europe/Amsterdam:20250817T191500
DTSTAMP:20260422T145832
CREATED:20241130T203250Z
LAST-MODIFIED:20241130T203250Z
UID:10450-1754331300-1755458100@www.deduck.nl
SUMMARY:Training
DESCRIPTION:Training – wedstrijdzwemmers en triatleten vanaf 16 jaar
URL:https://www.deduck.nl/event/training-347/
LOCATION:Zwembad De Dukdalf\, De Reede 2a\, Brielle\, 3232 CV\, Netherlands
CATEGORIES:Training
ATTACH;FMTTYPE=image/png:https://www.deduck.nl/wp-content/uploads/2024/11/voeten.png
END:VEVENT
BEGIN:VEVENT
DTSTART;TZID=Europe/Amsterdam:20250802T080000
DTEND;TZID=Europe/Amsterdam:20250802T090000
DTSTAMP:20260422T145832
CREATED:20241130T211156Z
LAST-MODIFIED:20241130T211156Z
UID:10689-1754121600-1754125200@www.deduck.nl
SUMMARY:Training
DESCRIPTION:Training – alle zwemgroepen alle leeftijden
URL:https://www.deduck.nl/event/training-575/
LOCATION:Zwembad De Dukdalf\, De Reede 2a\, Brielle\, 3232 CV\, Netherlands
CATEGORIES:Training
ATTACH;FMTTYPE=image/png:https://www.deduck.nl/wp-content/uploads/2024/11/voeten.png
END:VEVENT
BEGIN:VEVENT
DTSTART;TZID=Europe/Amsterdam:20250801T180000
DTEND;TZID=Europe/Amsterdam:20250801T190000
DTSTAMP:20260422T145832
CREATED:20241130T211024Z
LAST-MODIFIED:20241130T211024Z
UID:10658-1754071200-1754074800@www.deduck.nl
SUMMARY:Training
DESCRIPTION:Training – wedstrijdzwemmers en triatleten vanaf 10 jaar
URL:https://www.deduck.nl/event/training-544/
LOCATION:Zwembad De Dukdalf\, De Reede 2a\, Brielle\, 3232 CV\, Netherlands
CATEGORIES:Training
ATTACH;FMTTYPE=image/png:https://www.deduck.nl/wp-content/uploads/2024/11/voeten.png
END:VEVENT
BEGIN:VEVENT
DTSTART;TZID=Europe/Amsterdam:20250731T190000
DTEND;TZID=Europe/Amsterdam:20250731T200000
DTSTAMP:20260422T145832
CREATED:20241130T210049Z
LAST-MODIFIED:20241130T210049Z
UID:10616-1753988400-1753992000@www.deduck.nl
SUMMARY:Training
DESCRIPTION:Training – wedstrijdzwemmers vanaf 18 jaar alle niveaus
URL:https://www.deduck.nl/event/training-507/
LOCATION:Zwembad De Dukdalf\, De Reede 2a\, Brielle\, 3232 CV\, Netherlands
CATEGORIES:Training
ATTACH;FMTTYPE=image/png:https://www.deduck.nl/wp-content/uploads/2024/11/voeten.png
END:VEVENT
BEGIN:VEVENT
DTSTART;TZID=Europe/Amsterdam:20250731T180000
DTEND;TZID=Europe/Amsterdam:20250731T190000
DTSTAMP:20260422T145832
CREATED:20241130T204739Z
LAST-MODIFIED:20241130T204739Z
UID:10573-1753984800-1753988400@www.deduck.nl
SUMMARY:Training
DESCRIPTION:Training – wedstrijdzwemmers t/m 17 jaar alle niveaus
URL:https://www.deduck.nl/event/training-470/
LOCATION:Zwembad De Dukdalf\, De Reede 2a\, Brielle\, 3232 CV\, Netherlands
CATEGORIES:Training
ATTACH;FMTTYPE=image/png:https://www.deduck.nl/wp-content/uploads/2024/11/voeten.png
END:VEVENT
BEGIN:VEVENT
DTSTART;TZID=Europe/Amsterdam:20250729T200000
DTEND;TZID=Europe/Amsterdam:20250729T210000
DTSTAMP:20260422T145832
CREATED:20241130T204040Z
LAST-MODIFIED:20241130T204040Z
UID:10536-1753819200-1753822800@www.deduck.nl
SUMMARY:Training
DESCRIPTION:Training – wedstrijdzwemmers alle leeftijden alle niveaus
URL:https://www.deduck.nl/event/training-433/
LOCATION:Zwembad De Dukdalf\, De Reede 2a\, Brielle\, 3232 CV\, Netherlands
CATEGORIES:Training
ATTACH;FMTTYPE=image/png:https://www.deduck.nl/wp-content/uploads/2024/11/voeten.png
END:VEVENT
BEGIN:VEVENT
DTSTART;TZID=Europe/Amsterdam:20250726T080000
DTEND;TZID=Europe/Amsterdam:20250726T090000
DTSTAMP:20260422T145832
CREATED:20241130T211155Z
LAST-MODIFIED:20241130T211155Z
UID:10688-1753516800-1753520400@www.deduck.nl
SUMMARY:Training
DESCRIPTION:Training – alle zwemgroepen alle leeftijden
URL:https://www.deduck.nl/event/training-574/
LOCATION:Zwembad De Dukdalf\, De Reede 2a\, Brielle\, 3232 CV\, Netherlands
CATEGORIES:Training
ATTACH;FMTTYPE=image/png:https://www.deduck.nl/wp-content/uploads/2024/11/voeten.png
END:VEVENT
BEGIN:VEVENT
DTSTART;TZID=Europe/Amsterdam:20250725T180000
DTEND;TZID=Europe/Amsterdam:20250725T190000
DTSTAMP:20260422T145832
CREATED:20241127T175926Z
LAST-MODIFIED:20241130T211024Z
UID:10076-1753466400-1753470000@www.deduck.nl
SUMMARY:Training
DESCRIPTION:Training – wedstrijdzwemmers en triatleten vanaf 10 jaar
URL:https://www.deduck.nl/event/training-271/
LOCATION:Zwembad De Dukdalf\, De Reede 2a\, Brielle\, 3232 CV\, Netherlands
CATEGORIES:Training
ATTACH;FMTTYPE=image/png:https://www.deduck.nl/wp-content/uploads/2024/11/voeten.png
END:VEVENT
BEGIN:VEVENT
DTSTART;TZID=Europe/Amsterdam:20250724T190000
DTEND;TZID=Europe/Amsterdam:20250724T200000
DTSTAMP:20260422T145832
CREATED:20241130T210049Z
LAST-MODIFIED:20241130T210049Z
UID:10615-1753383600-1753387200@www.deduck.nl
SUMMARY:Training
DESCRIPTION:Training – wedstrijdzwemmers vanaf 18 jaar alle niveaus
URL:https://www.deduck.nl/event/training-506/
LOCATION:Zwembad De Dukdalf\, De Reede 2a\, Brielle\, 3232 CV\, Netherlands
CATEGORIES:Training
ATTACH;FMTTYPE=image/png:https://www.deduck.nl/wp-content/uploads/2024/11/voeten.png
END:VEVENT
BEGIN:VEVENT
DTSTART;TZID=Europe/Amsterdam:20250724T180000
DTEND;TZID=Europe/Amsterdam:20250724T190000
DTSTAMP:20260422T145832
CREATED:20241130T204617Z
LAST-MODIFIED:20241130T204617Z
UID:10572-1753380000-1753383600@www.deduck.nl
SUMMARY:Training
DESCRIPTION:Training – wedstrijdzwemmers t/m 17 jaar alle niveaus
URL:https://www.deduck.nl/event/training-469/
LOCATION:Zwembad De Dukdalf\, De Reede 2a\, Brielle\, 3232 CV\, Netherlands
CATEGORIES:Training
ATTACH;FMTTYPE=image/png:https://www.deduck.nl/wp-content/uploads/2024/11/voeten.png
END:VEVENT
BEGIN:VEVENT
DTSTART;TZID=Europe/Amsterdam:20250722T200000
DTEND;TZID=Europe/Amsterdam:20250722T210000
DTSTAMP:20260422T145832
CREATED:20241130T204040Z
LAST-MODIFIED:20241130T204040Z
UID:10535-1753214400-1753218000@www.deduck.nl
SUMMARY:Training
DESCRIPTION:Training – wedstrijdzwemmers alle leeftijden alle niveaus
URL:https://www.deduck.nl/event/training-432/
LOCATION:Zwembad De Dukdalf\, De Reede 2a\, Brielle\, 3232 CV\, Netherlands
CATEGORIES:Training
ATTACH;FMTTYPE=image/png:https://www.deduck.nl/wp-content/uploads/2024/11/voeten.png
END:VEVENT
BEGIN:VEVENT
DTSTART;TZID=Europe/Amsterdam:20250719T080000
DTEND;TZID=Europe/Amsterdam:20250719T090000
DTSTAMP:20260422T145832
CREATED:20241130T211154Z
LAST-MODIFIED:20241130T211154Z
UID:10687-1752912000-1752915600@www.deduck.nl
SUMMARY:Training
DESCRIPTION:Training – alle zwemgroepen alle leeftijden
URL:https://www.deduck.nl/event/training-573/
LOCATION:Zwembad De Dukdalf\, De Reede 2a\, Brielle\, 3232 CV\, Netherlands
CATEGORIES:Training
ATTACH;FMTTYPE=image/png:https://www.deduck.nl/wp-content/uploads/2024/11/voeten.png
END:VEVENT
BEGIN:VEVENT
DTSTART;TZID=Europe/Amsterdam:20250718T180000
DTEND;TZID=Europe/Amsterdam:20250718T190000
DTSTAMP:20260422T145832
CREATED:20241130T211012Z
LAST-MODIFIED:20241130T211012Z
UID:10657-1752861600-1752865200@www.deduck.nl
SUMMARY:Training
DESCRIPTION:Training – wedstrijdzwemmers en triatleten vanaf 10 jaar
URL:https://www.deduck.nl/event/training-543/
LOCATION:Zwembad De Dukdalf\, De Reede 2a\, Brielle\, 3232 CV\, Netherlands
CATEGORIES:Training
ATTACH;FMTTYPE=image/png:https://www.deduck.nl/wp-content/uploads/2024/11/voeten.png
END:VEVENT
END:VCALENDAR