BEGIN:VCALENDAR
VERSION:2.0
PRODID:-//de Duck - ECPv6.15.20//NONSGML v1.0//EN
CALSCALE:GREGORIAN
METHOD:PUBLISH
X-WR-CALNAME:de Duck
X-ORIGINAL-URL:https://www.deduck.nl
X-WR-CALDESC:Events for de Duck
REFRESH-INTERVAL;VALUE=DURATION:PT1H
X-Robots-Tag:noindex
X-PUBLISHED-TTL:PT1H
BEGIN:VTIMEZONE
TZID:Europe/Amsterdam
BEGIN:DAYLIGHT
TZOFFSETFROM:+0100
TZOFFSETTO:+0200
TZNAME:CEST
DTSTART:20240331T010000
END:DAYLIGHT
BEGIN:STANDARD
TZOFFSETFROM:+0200
TZOFFSETTO:+0100
TZNAME:CET
DTSTART:20241027T010000
END:STANDARD
BEGIN:DAYLIGHT
TZOFFSETFROM:+0100
TZOFFSETTO:+0200
TZNAME:CEST
DTSTART:20250330T010000
END:DAYLIGHT
BEGIN:STANDARD
TZOFFSETFROM:+0200
TZOFFSETTO:+0100
TZNAME:CET
DTSTART:20251026T010000
END:STANDARD
BEGIN:DAYLIGHT
TZOFFSETFROM:+0100
TZOFFSETTO:+0200
TZNAME:CEST
DTSTART:20260329T010000
END:DAYLIGHT
BEGIN:STANDARD
TZOFFSETFROM:+0200
TZOFFSETTO:+0100
TZNAME:CET
DTSTART:20261025T010000
END:STANDARD
END:VTIMEZONE
BEGIN:VEVENT
DTSTART;TZID=Europe/Amsterdam:20251011T080000
DTEND;TZID=Europe/Amsterdam:20251011T090000
DTSTAMP:20260422T103339
CREATED:20241130T211226Z
LAST-MODIFIED:20241130T211226Z
UID:10699-1760169600-1760173200@www.deduck.nl
SUMMARY:Training
DESCRIPTION:Training – alle zwemgroepen alle leeftijden
URL:https://www.deduck.nl/event/training-585/
LOCATION:Zwembad De Dukdalf\, De Reede 2a\, Brielle\, 3232 CV\, Netherlands
CATEGORIES:Training
ATTACH;FMTTYPE=image/png:https://www.deduck.nl/wp-content/uploads/2024/11/voeten.png
END:VEVENT
BEGIN:VEVENT
DTSTART;TZID=Europe/Amsterdam:20251006T191500
DTEND;TZID=Europe/Amsterdam:20251019T201500
DTSTAMP:20260422T103339
CREATED:20241130T203522Z
LAST-MODIFIED:20241130T203522Z
UID:10502-1759778100-1760904900@www.deduck.nl
SUMMARY:Training
DESCRIPTION:Training – wedstrijdzwemmers vanaf 18 jaar alle niveaus
URL:https://www.deduck.nl/event/training-399/
LOCATION:Zwembad De Dukdalf\, De Reede 2a\, Brielle\, 3232 CV\, Netherlands
CATEGORIES:Training
ATTACH;FMTTYPE=image/png:https://www.deduck.nl/wp-content/uploads/2024/11/voeten.png
END:VEVENT
BEGIN:VEVENT
DTSTART;TZID=Europe/Amsterdam:20251006T181500
DTEND;TZID=Europe/Amsterdam:20251019T191500
DTSTAMP:20260422T103339
CREATED:20241130T203308Z
LAST-MODIFIED:20241130T203308Z
UID:10459-1759774500-1760901300@www.deduck.nl
SUMMARY:Training
DESCRIPTION:Training – wedstrijdzwemmers en triatleten vanaf 16 jaar
URL:https://www.deduck.nl/event/training-356/
LOCATION:Zwembad De Dukdalf\, De Reede 2a\, Brielle\, 3232 CV\, Netherlands
CATEGORIES:Training
ATTACH;FMTTYPE=image/png:https://www.deduck.nl/wp-content/uploads/2024/11/voeten.png
END:VEVENT
BEGIN:VEVENT
DTSTART;TZID=Europe/Amsterdam:20251004T080000
DTEND;TZID=Europe/Amsterdam:20251004T090000
DTSTAMP:20260422T103339
CREATED:20241130T211225Z
LAST-MODIFIED:20241130T211225Z
UID:10698-1759564800-1759568400@www.deduck.nl
SUMMARY:Training
DESCRIPTION:Training – alle zwemgroepen alle leeftijden
URL:https://www.deduck.nl/event/training-584/
LOCATION:Zwembad De Dukdalf\, De Reede 2a\, Brielle\, 3232 CV\, Netherlands
CATEGORIES:Training
ATTACH;FMTTYPE=image/png:https://www.deduck.nl/wp-content/uploads/2024/11/voeten.png
END:VEVENT
BEGIN:VEVENT
DTSTART;TZID=Europe/Amsterdam:20250929T191500
DTEND;TZID=Europe/Amsterdam:20251012T201500
DTSTAMP:20260422T103339
CREATED:20241130T203521Z
LAST-MODIFIED:20241130T203521Z
UID:10501-1759173300-1760300100@www.deduck.nl
SUMMARY:Training
DESCRIPTION:Training – wedstrijdzwemmers vanaf 18 jaar alle niveaus
URL:https://www.deduck.nl/event/training-398/
LOCATION:Zwembad De Dukdalf\, De Reede 2a\, Brielle\, 3232 CV\, Netherlands
CATEGORIES:Training
ATTACH;FMTTYPE=image/png:https://www.deduck.nl/wp-content/uploads/2024/11/voeten.png
END:VEVENT
BEGIN:VEVENT
DTSTART;TZID=Europe/Amsterdam:20250929T181500
DTEND;TZID=Europe/Amsterdam:20251012T191500
DTSTAMP:20260422T103339
CREATED:20241130T203307Z
LAST-MODIFIED:20241130T203307Z
UID:10458-1759169700-1760296500@www.deduck.nl
SUMMARY:Training
DESCRIPTION:Training – wedstrijdzwemmers en triatleten vanaf 16 jaar
URL:https://www.deduck.nl/event/training-355/
LOCATION:Zwembad De Dukdalf\, De Reede 2a\, Brielle\, 3232 CV\, Netherlands
CATEGORIES:Training
ATTACH;FMTTYPE=image/png:https://www.deduck.nl/wp-content/uploads/2024/11/voeten.png
END:VEVENT
BEGIN:VEVENT
DTSTART;TZID=Europe/Amsterdam:20250927T080000
DTEND;TZID=Europe/Amsterdam:20250927T090000
DTSTAMP:20260422T103339
CREATED:20241130T211225Z
LAST-MODIFIED:20241130T211225Z
UID:10697-1758960000-1758963600@www.deduck.nl
SUMMARY:Training
DESCRIPTION:Training – alle zwemgroepen alle leeftijden
URL:https://www.deduck.nl/event/training-583/
LOCATION:Zwembad De Dukdalf\, De Reede 2a\, Brielle\, 3232 CV\, Netherlands
CATEGORIES:Training
ATTACH;FMTTYPE=image/png:https://www.deduck.nl/wp-content/uploads/2024/11/voeten.png
END:VEVENT
BEGIN:VEVENT
DTSTART;TZID=Europe/Amsterdam:20250922T191500
DTEND;TZID=Europe/Amsterdam:20251005T201500
DTSTAMP:20260422T103339
CREATED:20241130T203520Z
LAST-MODIFIED:20241130T203520Z
UID:10500-1758568500-1759695300@www.deduck.nl
SUMMARY:Training
DESCRIPTION:Training – wedstrijdzwemmers vanaf 18 jaar alle niveaus
URL:https://www.deduck.nl/event/training-397/
LOCATION:Zwembad De Dukdalf\, De Reede 2a\, Brielle\, 3232 CV\, Netherlands
CATEGORIES:Training
ATTACH;FMTTYPE=image/png:https://www.deduck.nl/wp-content/uploads/2024/11/voeten.png
END:VEVENT
BEGIN:VEVENT
DTSTART;TZID=Europe/Amsterdam:20250922T181500
DTEND;TZID=Europe/Amsterdam:20251005T191500
DTSTAMP:20260422T103339
CREATED:20241130T203307Z
LAST-MODIFIED:20241130T203307Z
UID:10457-1758564900-1759691700@www.deduck.nl
SUMMARY:Training
DESCRIPTION:Training – wedstrijdzwemmers en triatleten vanaf 16 jaar
URL:https://www.deduck.nl/event/training-354/
LOCATION:Zwembad De Dukdalf\, De Reede 2a\, Brielle\, 3232 CV\, Netherlands
CATEGORIES:Training
ATTACH;FMTTYPE=image/png:https://www.deduck.nl/wp-content/uploads/2024/11/voeten.png
END:VEVENT
BEGIN:VEVENT
DTSTART;TZID=Europe/Amsterdam:20250920T080000
DTEND;TZID=Europe/Amsterdam:20250920T090000
DTSTAMP:20260422T103339
CREATED:20241130T211224Z
LAST-MODIFIED:20241130T211224Z
UID:10696-1758355200-1758358800@www.deduck.nl
SUMMARY:Training
DESCRIPTION:Training – alle zwemgroepen alle leeftijden
URL:https://www.deduck.nl/event/training-582/
LOCATION:Zwembad De Dukdalf\, De Reede 2a\, Brielle\, 3232 CV\, Netherlands
CATEGORIES:Training
ATTACH;FMTTYPE=image/png:https://www.deduck.nl/wp-content/uploads/2024/11/voeten.png
END:VEVENT
BEGIN:VEVENT
DTSTART;TZID=Europe/Amsterdam:20250915T191500
DTEND;TZID=Europe/Amsterdam:20250928T201500
DTSTAMP:20260422T103339
CREATED:20241130T203508Z
LAST-MODIFIED:20241130T203508Z
UID:10499-1757963700-1759090500@www.deduck.nl
SUMMARY:Training
DESCRIPTION:Training – wedstrijdzwemmers vanaf 18 jaar alle niveaus
URL:https://www.deduck.nl/event/training-396/
LOCATION:Zwembad De Dukdalf\, De Reede 2a\, Brielle\, 3232 CV\, Netherlands
CATEGORIES:Training
ATTACH;FMTTYPE=image/png:https://www.deduck.nl/wp-content/uploads/2024/11/voeten.png
END:VEVENT
BEGIN:VEVENT
DTSTART;TZID=Europe/Amsterdam:20250915T181500
DTEND;TZID=Europe/Amsterdam:20250928T191500
DTSTAMP:20260422T103339
CREATED:20241130T203306Z
LAST-MODIFIED:20241130T203306Z
UID:10456-1757960100-1759086900@www.deduck.nl
SUMMARY:Training
DESCRIPTION:Training – wedstrijdzwemmers en triatleten vanaf 16 jaar
URL:https://www.deduck.nl/event/training-353/
LOCATION:Zwembad De Dukdalf\, De Reede 2a\, Brielle\, 3232 CV\, Netherlands
CATEGORIES:Training
ATTACH;FMTTYPE=image/png:https://www.deduck.nl/wp-content/uploads/2024/11/voeten.png
END:VEVENT
BEGIN:VEVENT
DTSTART;TZID=Europe/Amsterdam:20250913T080000
DTEND;TZID=Europe/Amsterdam:20250913T090000
DTSTAMP:20260422T103339
CREATED:20241130T211212Z
LAST-MODIFIED:20241130T211212Z
UID:10695-1757750400-1757754000@www.deduck.nl
SUMMARY:Training
DESCRIPTION:Training – alle zwemgroepen alle leeftijden
URL:https://www.deduck.nl/event/training-581/
LOCATION:Zwembad De Dukdalf\, De Reede 2a\, Brielle\, 3232 CV\, Netherlands
CATEGORIES:Training
ATTACH;FMTTYPE=image/png:https://www.deduck.nl/wp-content/uploads/2024/11/voeten.png
END:VEVENT
BEGIN:VEVENT
DTSTART;TZID=Europe/Amsterdam:20250908T191500
DTEND;TZID=Europe/Amsterdam:20250921T201500
DTSTAMP:20260422T103339
CREATED:20241130T203507Z
LAST-MODIFIED:20241130T203507Z
UID:10498-1757358900-1758485700@www.deduck.nl
SUMMARY:Training
DESCRIPTION:Training – wedstrijdzwemmers vanaf 18 jaar alle niveaus
URL:https://www.deduck.nl/event/training-395/
LOCATION:Zwembad De Dukdalf\, De Reede 2a\, Brielle\, 3232 CV\, Netherlands
CATEGORIES:Training
ATTACH;FMTTYPE=image/png:https://www.deduck.nl/wp-content/uploads/2024/11/voeten.png
END:VEVENT
BEGIN:VEVENT
DTSTART;TZID=Europe/Amsterdam:20250908T181500
DTEND;TZID=Europe/Amsterdam:20250921T191500
DTSTAMP:20260422T103339
CREATED:20241130T203305Z
LAST-MODIFIED:20241130T203305Z
UID:10455-1757355300-1758482100@www.deduck.nl
SUMMARY:Training
DESCRIPTION:Training – wedstrijdzwemmers en triatleten vanaf 16 jaar
URL:https://www.deduck.nl/event/training-352/
LOCATION:Zwembad De Dukdalf\, De Reede 2a\, Brielle\, 3232 CV\, Netherlands
CATEGORIES:Training
ATTACH;FMTTYPE=image/png:https://www.deduck.nl/wp-content/uploads/2024/11/voeten.png
END:VEVENT
BEGIN:VEVENT
DTSTART;TZID=Europe/Amsterdam:20250906T080000
DTEND;TZID=Europe/Amsterdam:20250906T090000
DTSTAMP:20260422T103339
CREATED:20241130T211211Z
LAST-MODIFIED:20241130T211211Z
UID:10694-1757145600-1757149200@www.deduck.nl
SUMMARY:Training
DESCRIPTION:Training – alle zwemgroepen alle leeftijden
URL:https://www.deduck.nl/event/training-580/
LOCATION:Zwembad De Dukdalf\, De Reede 2a\, Brielle\, 3232 CV\, Netherlands
CATEGORIES:Training
ATTACH;FMTTYPE=image/png:https://www.deduck.nl/wp-content/uploads/2024/11/voeten.png
END:VEVENT
BEGIN:VEVENT
DTSTART;TZID=Europe/Amsterdam:20250904T190000
DTEND;TZID=Europe/Amsterdam:20250904T200000
DTSTAMP:20260422T103339
CREATED:20241130T210059Z
LAST-MODIFIED:20241130T210059Z
UID:10621-1757012400-1757016000@www.deduck.nl
SUMMARY:Training
DESCRIPTION:Training – wedstrijdzwemmers vanaf 18 jaar alle niveaus
URL:https://www.deduck.nl/event/training-512/
LOCATION:Zwembad De Dukdalf\, De Reede 2a\, Brielle\, 3232 CV\, Netherlands
CATEGORIES:Training
ATTACH;FMTTYPE=image/png:https://www.deduck.nl/wp-content/uploads/2024/11/voeten.png
END:VEVENT
BEGIN:VEVENT
DTSTART;TZID=Europe/Amsterdam:20250904T180000
DTEND;TZID=Europe/Amsterdam:20250904T190000
DTSTAMP:20260422T103339
CREATED:20241130T204754Z
LAST-MODIFIED:20241130T204754Z
UID:10578-1757008800-1757012400@www.deduck.nl
SUMMARY:Training
DESCRIPTION:Training – wedstrijdzwemmers t/m 17 jaar alle niveaus
URL:https://www.deduck.nl/event/training-475/
LOCATION:Zwembad De Dukdalf\, De Reede 2a\, Brielle\, 3232 CV\, Netherlands
CATEGORIES:Training
ATTACH;FMTTYPE=image/png:https://www.deduck.nl/wp-content/uploads/2024/11/voeten.png
END:VEVENT
BEGIN:VEVENT
DTSTART;TZID=Europe/Amsterdam:20250902T200000
DTEND;TZID=Europe/Amsterdam:20250902T210000
DTSTAMP:20260422T103339
CREATED:20241130T204242Z
LAST-MODIFIED:20241130T204242Z
UID:10541-1756843200-1756846800@www.deduck.nl
SUMMARY:Training
DESCRIPTION:Training – wedstrijdzwemmers alle leeftijden alle niveaus
URL:https://www.deduck.nl/event/training-438/
LOCATION:Zwembad De Dukdalf\, De Reede 2a\, Brielle\, 3232 CV\, Netherlands
CATEGORIES:Training
ATTACH;FMTTYPE=image/png:https://www.deduck.nl/wp-content/uploads/2024/11/voeten.png
END:VEVENT
BEGIN:VEVENT
DTSTART;TZID=Europe/Amsterdam:20250901T191500
DTEND;TZID=Europe/Amsterdam:20250914T201500
DTSTAMP:20260422T103339
CREATED:20241130T203507Z
LAST-MODIFIED:20241130T203507Z
UID:10497-1756754100-1757880900@www.deduck.nl
SUMMARY:Training
DESCRIPTION:Training – wedstrijdzwemmers vanaf 18 jaar alle niveaus
URL:https://www.deduck.nl/event/training-394/
LOCATION:Zwembad De Dukdalf\, De Reede 2a\, Brielle\, 3232 CV\, Netherlands
CATEGORIES:Training
ATTACH;FMTTYPE=image/png:https://www.deduck.nl/wp-content/uploads/2024/11/voeten.png
END:VEVENT
BEGIN:VEVENT
DTSTART;TZID=Europe/Amsterdam:20250901T181500
DTEND;TZID=Europe/Amsterdam:20250914T191500
DTSTAMP:20260422T103339
CREATED:20241130T203253Z
LAST-MODIFIED:20241130T203253Z
UID:10454-1756750500-1757877300@www.deduck.nl
SUMMARY:Training
DESCRIPTION:Training – wedstrijdzwemmers en triatleten vanaf 16 jaar
URL:https://www.deduck.nl/event/training-351/
LOCATION:Zwembad De Dukdalf\, De Reede 2a\, Brielle\, 3232 CV\, Netherlands
CATEGORIES:Training
ATTACH;FMTTYPE=image/png:https://www.deduck.nl/wp-content/uploads/2024/11/voeten.png
END:VEVENT
BEGIN:VEVENT
DTSTART;TZID=Europe/Amsterdam:20250830T080000
DTEND;TZID=Europe/Amsterdam:20250830T090000
DTSTAMP:20260422T103339
CREATED:20241130T211210Z
LAST-MODIFIED:20241130T211210Z
UID:10693-1756540800-1756544400@www.deduck.nl
SUMMARY:Training
DESCRIPTION:Training – alle zwemgroepen alle leeftijden
URL:https://www.deduck.nl/event/training-579/
LOCATION:Zwembad De Dukdalf\, De Reede 2a\, Brielle\, 3232 CV\, Netherlands
CATEGORIES:Training
ATTACH;FMTTYPE=image/png:https://www.deduck.nl/wp-content/uploads/2024/11/voeten.png
END:VEVENT
BEGIN:VEVENT
DTSTART;TZID=Europe/Amsterdam:20250828T190000
DTEND;TZID=Europe/Amsterdam:20250828T200000
DTSTAMP:20260422T103339
CREATED:20241130T210058Z
LAST-MODIFIED:20241130T210058Z
UID:10620-1756407600-1756411200@www.deduck.nl
SUMMARY:Training
DESCRIPTION:Training – wedstrijdzwemmers vanaf 18 jaar alle niveaus
URL:https://www.deduck.nl/event/training-511/
LOCATION:Zwembad De Dukdalf\, De Reede 2a\, Brielle\, 3232 CV\, Netherlands
CATEGORIES:Training
ATTACH;FMTTYPE=image/png:https://www.deduck.nl/wp-content/uploads/2024/11/voeten.png
END:VEVENT
BEGIN:VEVENT
DTSTART;TZID=Europe/Amsterdam:20250828T180000
DTEND;TZID=Europe/Amsterdam:20250828T190000
DTSTAMP:20260422T103339
CREATED:20241130T204742Z
LAST-MODIFIED:20241130T204742Z
UID:10577-1756404000-1756407600@www.deduck.nl
SUMMARY:Training
DESCRIPTION:Training – wedstrijdzwemmers t/m 17 jaar alle niveaus
URL:https://www.deduck.nl/event/training-474/
LOCATION:Zwembad De Dukdalf\, De Reede 2a\, Brielle\, 3232 CV\, Netherlands
CATEGORIES:Training
ATTACH;FMTTYPE=image/png:https://www.deduck.nl/wp-content/uploads/2024/11/voeten.png
END:VEVENT
BEGIN:VEVENT
DTSTART;TZID=Europe/Amsterdam:20250826T200000
DTEND;TZID=Europe/Amsterdam:20250826T210000
DTSTAMP:20260422T103339
CREATED:20241130T204241Z
LAST-MODIFIED:20241130T204241Z
UID:10540-1756238400-1756242000@www.deduck.nl
SUMMARY:Training
DESCRIPTION:Training – wedstrijdzwemmers alle leeftijden alle niveaus
URL:https://www.deduck.nl/event/training-437/
LOCATION:Zwembad De Dukdalf\, De Reede 2a\, Brielle\, 3232 CV\, Netherlands
CATEGORIES:Training
ATTACH;FMTTYPE=image/png:https://www.deduck.nl/wp-content/uploads/2024/11/voeten.png
END:VEVENT
BEGIN:VEVENT
DTSTART;TZID=Europe/Amsterdam:20250825T191500
DTEND;TZID=Europe/Amsterdam:20250907T201500
DTSTAMP:20260422T103339
CREATED:20241130T203506Z
LAST-MODIFIED:20241130T203506Z
UID:10496-1756149300-1757276100@www.deduck.nl
SUMMARY:Training
DESCRIPTION:Training – wedstrijdzwemmers vanaf 18 jaar alle niveaus
URL:https://www.deduck.nl/event/training-393/
LOCATION:Zwembad De Dukdalf\, De Reede 2a\, Brielle\, 3232 CV\, Netherlands
CATEGORIES:Training
ATTACH;FMTTYPE=image/png:https://www.deduck.nl/wp-content/uploads/2024/11/voeten.png
END:VEVENT
BEGIN:VEVENT
DTSTART;TZID=Europe/Amsterdam:20250825T181500
DTEND;TZID=Europe/Amsterdam:20250907T191500
DTSTAMP:20260422T103339
CREATED:20241130T203252Z
LAST-MODIFIED:20241130T203252Z
UID:10453-1756145700-1757272500@www.deduck.nl
SUMMARY:Training
DESCRIPTION:Training – wedstrijdzwemmers en triatleten vanaf 16 jaar
URL:https://www.deduck.nl/event/training-350/
LOCATION:Zwembad De Dukdalf\, De Reede 2a\, Brielle\, 3232 CV\, Netherlands
CATEGORIES:Training
ATTACH;FMTTYPE=image/png:https://www.deduck.nl/wp-content/uploads/2024/11/voeten.png
END:VEVENT
BEGIN:VEVENT
DTSTART;TZID=Europe/Amsterdam:20250823T080000
DTEND;TZID=Europe/Amsterdam:20250823T090000
DTSTAMP:20260422T103339
CREATED:20241130T211210Z
LAST-MODIFIED:20241130T211210Z
UID:10692-1755936000-1755939600@www.deduck.nl
SUMMARY:Training
DESCRIPTION:Training – alle zwemgroepen alle leeftijden
URL:https://www.deduck.nl/event/training-578/
LOCATION:Zwembad De Dukdalf\, De Reede 2a\, Brielle\, 3232 CV\, Netherlands
CATEGORIES:Training
ATTACH;FMTTYPE=image/png:https://www.deduck.nl/wp-content/uploads/2024/11/voeten.png
END:VEVENT
BEGIN:VEVENT
DTSTART;TZID=Europe/Amsterdam:20250821T190000
DTEND;TZID=Europe/Amsterdam:20250821T200000
DTSTAMP:20260422T103339
CREATED:20241130T210058Z
LAST-MODIFIED:20241130T210058Z
UID:10619-1755802800-1755806400@www.deduck.nl
SUMMARY:Training
DESCRIPTION:Training – wedstrijdzwemmers vanaf 18 jaar alle niveaus
URL:https://www.deduck.nl/event/training-510/
LOCATION:Zwembad De Dukdalf\, De Reede 2a\, Brielle\, 3232 CV\, Netherlands
CATEGORIES:Training
ATTACH;FMTTYPE=image/png:https://www.deduck.nl/wp-content/uploads/2024/11/voeten.png
END:VEVENT
BEGIN:VEVENT
DTSTART;TZID=Europe/Amsterdam:20250821T180000
DTEND;TZID=Europe/Amsterdam:20250821T190000
DTSTAMP:20260422T103339
CREATED:20241130T204741Z
LAST-MODIFIED:20241130T204741Z
UID:10576-1755799200-1755802800@www.deduck.nl
SUMMARY:Training
DESCRIPTION:Training – wedstrijdzwemmers t/m 17 jaar alle niveaus
URL:https://www.deduck.nl/event/training-473/
LOCATION:Zwembad De Dukdalf\, De Reede 2a\, Brielle\, 3232 CV\, Netherlands
CATEGORIES:Training
ATTACH;FMTTYPE=image/png:https://www.deduck.nl/wp-content/uploads/2024/11/voeten.png
END:VEVENT
END:VCALENDAR