BEGIN:VCALENDAR
VERSION:2.0
PRODID:-//de Duck - ECPv6.15.20//NONSGML v1.0//EN
CALSCALE:GREGORIAN
METHOD:PUBLISH
X-WR-CALNAME:de Duck
X-ORIGINAL-URL:https://www.deduck.nl
X-WR-CALDESC:Events for de Duck
REFRESH-INTERVAL;VALUE=DURATION:PT1H
X-Robots-Tag:noindex
X-PUBLISHED-TTL:PT1H
BEGIN:VTIMEZONE
TZID:Europe/Amsterdam
BEGIN:DAYLIGHT
TZOFFSETFROM:+0100
TZOFFSETTO:+0200
TZNAME:CEST
DTSTART:20240331T010000
END:DAYLIGHT
BEGIN:STANDARD
TZOFFSETFROM:+0200
TZOFFSETTO:+0100
TZNAME:CET
DTSTART:20241027T010000
END:STANDARD
BEGIN:DAYLIGHT
TZOFFSETFROM:+0100
TZOFFSETTO:+0200
TZNAME:CEST
DTSTART:20250330T010000
END:DAYLIGHT
BEGIN:STANDARD
TZOFFSETFROM:+0200
TZOFFSETTO:+0100
TZNAME:CET
DTSTART:20251026T010000
END:STANDARD
BEGIN:DAYLIGHT
TZOFFSETFROM:+0100
TZOFFSETTO:+0200
TZNAME:CEST
DTSTART:20260329T010000
END:DAYLIGHT
BEGIN:STANDARD
TZOFFSETFROM:+0200
TZOFFSETTO:+0100
TZNAME:CET
DTSTART:20261025T010000
END:STANDARD
END:VTIMEZONE
BEGIN:VEVENT
DTSTART;TZID=Europe/Amsterdam:20250621T080000
DTEND;TZID=Europe/Amsterdam:20250621T090000
DTSTAMP:20260421T182117
CREATED:20241130T211140Z
LAST-MODIFIED:20241130T211140Z
UID:10683-1750492800-1750496400@www.deduck.nl
SUMMARY:Training
DESCRIPTION:Training – alle zwemgroepen alle leeftijden
URL:https://www.deduck.nl/event/training-569/
LOCATION:Zwembad De Dukdalf\, De Reede 2a\, Brielle\, 3232 CV\, Netherlands
CATEGORIES:Training
ATTACH;FMTTYPE=image/png:https://www.deduck.nl/wp-content/uploads/2024/11/voeten.png
END:VEVENT
BEGIN:VEVENT
DTSTART;TZID=Europe/Amsterdam:20250623T181500
DTEND;TZID=Europe/Amsterdam:20250706T191500
DTSTAMP:20260421T182117
CREATED:20241130T203236Z
LAST-MODIFIED:20241130T203236Z
UID:10446-1750702500-1751829300@www.deduck.nl
SUMMARY:Training
DESCRIPTION:Training – wedstrijdzwemmers en triatleten vanaf 16 jaar
URL:https://www.deduck.nl/event/training-343/
LOCATION:Zwembad De Dukdalf\, De Reede 2a\, Brielle\, 3232 CV\, Netherlands
CATEGORIES:Training
ATTACH;FMTTYPE=image/png:https://www.deduck.nl/wp-content/uploads/2024/11/voeten.png
END:VEVENT
BEGIN:VEVENT
DTSTART;TZID=Europe/Amsterdam:20250623T191500
DTEND;TZID=Europe/Amsterdam:20250706T201500
DTSTAMP:20260421T182117
CREATED:20241130T203438Z
LAST-MODIFIED:20241130T203438Z
UID:10489-1750706100-1751832900@www.deduck.nl
SUMMARY:Training
DESCRIPTION:Training – wedstrijdzwemmers vanaf 18 jaar alle niveaus
URL:https://www.deduck.nl/event/training-386/
LOCATION:Zwembad De Dukdalf\, De Reede 2a\, Brielle\, 3232 CV\, Netherlands
CATEGORIES:Training
ATTACH;FMTTYPE=image/png:https://www.deduck.nl/wp-content/uploads/2024/11/voeten.png
END:VEVENT
BEGIN:VEVENT
DTSTART;TZID=Europe/Amsterdam:20250624T200000
DTEND;TZID=Europe/Amsterdam:20250624T210000
DTSTAMP:20260421T182117
CREATED:20241130T203839Z
LAST-MODIFIED:20241130T203839Z
UID:10531-1750795200-1750798800@www.deduck.nl
SUMMARY:Training
DESCRIPTION:Training – wedstrijdzwemmers alle leeftijden alle niveaus
URL:https://www.deduck.nl/event/training-428/
LOCATION:Zwembad De Dukdalf\, De Reede 2a\, Brielle\, 3232 CV\, Netherlands
CATEGORIES:Training
ATTACH;FMTTYPE=image/png:https://www.deduck.nl/wp-content/uploads/2024/11/voeten.png
END:VEVENT
BEGIN:VEVENT
DTSTART;TZID=Europe/Amsterdam:20250626T180000
DTEND;TZID=Europe/Amsterdam:20250626T190000
DTSTAMP:20260421T182117
CREATED:20241130T204614Z
LAST-MODIFIED:20241130T204614Z
UID:10568-1750960800-1750964400@www.deduck.nl
SUMMARY:Training
DESCRIPTION:Training – wedstrijdzwemmers t/m 17 jaar alle niveaus
URL:https://www.deduck.nl/event/training-465/
LOCATION:Zwembad De Dukdalf\, De Reede 2a\, Brielle\, 3232 CV\, Netherlands
CATEGORIES:Training
ATTACH;FMTTYPE=image/png:https://www.deduck.nl/wp-content/uploads/2024/11/voeten.png
END:VEVENT
BEGIN:VEVENT
DTSTART;TZID=Europe/Amsterdam:20250626T190000
DTEND;TZID=Europe/Amsterdam:20250626T200000
DTSTAMP:20260421T182117
CREATED:20241130T210039Z
LAST-MODIFIED:20241130T210039Z
UID:10611-1750964400-1750968000@www.deduck.nl
SUMMARY:Training
DESCRIPTION:Training – wedstrijdzwemmers vanaf 18 jaar alle niveaus
URL:https://www.deduck.nl/event/training-502/
LOCATION:Zwembad De Dukdalf\, De Reede 2a\, Brielle\, 3232 CV\, Netherlands
CATEGORIES:Training
ATTACH;FMTTYPE=image/png:https://www.deduck.nl/wp-content/uploads/2024/11/voeten.png
END:VEVENT
BEGIN:VEVENT
DTSTART;TZID=Europe/Amsterdam:20250627T180000
DTEND;TZID=Europe/Amsterdam:20250627T190000
DTSTAMP:20260421T182117
CREATED:20241130T211010Z
LAST-MODIFIED:20241130T211010Z
UID:10654-1751047200-1751050800@www.deduck.nl
SUMMARY:Training
DESCRIPTION:Training – wedstrijdzwemmers en triatleten vanaf 10 jaar
URL:https://www.deduck.nl/event/training-540/
LOCATION:Zwembad De Dukdalf\, De Reede 2a\, Brielle\, 3232 CV\, Netherlands
CATEGORIES:Training
ATTACH;FMTTYPE=image/png:https://www.deduck.nl/wp-content/uploads/2024/11/voeten.png
END:VEVENT
BEGIN:VEVENT
DTSTART;TZID=Europe/Amsterdam:20250628T080000
DTEND;TZID=Europe/Amsterdam:20250628T090000
DTSTAMP:20260421T182117
CREATED:20241130T211141Z
LAST-MODIFIED:20241130T211141Z
UID:10684-1751097600-1751101200@www.deduck.nl
SUMMARY:Training
DESCRIPTION:Training – alle zwemgroepen alle leeftijden
URL:https://www.deduck.nl/event/training-570/
LOCATION:Zwembad De Dukdalf\, De Reede 2a\, Brielle\, 3232 CV\, Netherlands
CATEGORIES:Training
ATTACH;FMTTYPE=image/png:https://www.deduck.nl/wp-content/uploads/2024/11/voeten.png
END:VEVENT
BEGIN:VEVENT
DTSTART;TZID=Europe/Amsterdam:20250630T181500
DTEND;TZID=Europe/Amsterdam:20250713T191500
DTSTAMP:20260421T182117
CREATED:20241130T203237Z
LAST-MODIFIED:20241130T203237Z
UID:10447-1751307300-1752434100@www.deduck.nl
SUMMARY:Training
DESCRIPTION:Training – wedstrijdzwemmers en triatleten vanaf 16 jaar
URL:https://www.deduck.nl/event/training-344/
LOCATION:Zwembad De Dukdalf\, De Reede 2a\, Brielle\, 3232 CV\, Netherlands
CATEGORIES:Training
ATTACH;FMTTYPE=image/png:https://www.deduck.nl/wp-content/uploads/2024/11/voeten.png
END:VEVENT
BEGIN:VEVENT
DTSTART;TZID=Europe/Amsterdam:20250630T191500
DTEND;TZID=Europe/Amsterdam:20250713T201500
DTSTAMP:20260421T182117
CREATED:20241130T203450Z
LAST-MODIFIED:20241130T203450Z
UID:10490-1751310900-1752437700@www.deduck.nl
SUMMARY:Training
DESCRIPTION:Training – wedstrijdzwemmers vanaf 18 jaar alle niveaus
URL:https://www.deduck.nl/event/training-387/
LOCATION:Zwembad De Dukdalf\, De Reede 2a\, Brielle\, 3232 CV\, Netherlands
CATEGORIES:Training
ATTACH;FMTTYPE=image/png:https://www.deduck.nl/wp-content/uploads/2024/11/voeten.png
END:VEVENT
BEGIN:VEVENT
DTSTART;TZID=Europe/Amsterdam:20250701T200000
DTEND;TZID=Europe/Amsterdam:20250701T210000
DTSTAMP:20260421T182117
CREATED:20241130T203840Z
LAST-MODIFIED:20241130T203840Z
UID:10532-1751400000-1751403600@www.deduck.nl
SUMMARY:Training
DESCRIPTION:Training – wedstrijdzwemmers alle leeftijden alle niveaus
URL:https://www.deduck.nl/event/training-429/
LOCATION:Zwembad De Dukdalf\, De Reede 2a\, Brielle\, 3232 CV\, Netherlands
CATEGORIES:Training
ATTACH;FMTTYPE=image/png:https://www.deduck.nl/wp-content/uploads/2024/11/voeten.png
END:VEVENT
BEGIN:VEVENT
DTSTART;TZID=Europe/Amsterdam:20250703T180000
DTEND;TZID=Europe/Amsterdam:20250703T190000
DTSTAMP:20260421T182117
CREATED:20241130T204615Z
LAST-MODIFIED:20241130T204615Z
UID:10569-1751565600-1751569200@www.deduck.nl
SUMMARY:Training
DESCRIPTION:Training – wedstrijdzwemmers t/m 17 jaar alle niveaus
URL:https://www.deduck.nl/event/training-466/
LOCATION:Zwembad De Dukdalf\, De Reede 2a\, Brielle\, 3232 CV\, Netherlands
CATEGORIES:Training
ATTACH;FMTTYPE=image/png:https://www.deduck.nl/wp-content/uploads/2024/11/voeten.png
END:VEVENT
BEGIN:VEVENT
DTSTART;TZID=Europe/Amsterdam:20250703T190000
DTEND;TZID=Europe/Amsterdam:20250703T200000
DTSTAMP:20260421T182117
CREATED:20241130T210040Z
LAST-MODIFIED:20241130T210040Z
UID:10612-1751569200-1751572800@www.deduck.nl
SUMMARY:Training
DESCRIPTION:Training – wedstrijdzwemmers vanaf 18 jaar alle niveaus
URL:https://www.deduck.nl/event/training-503/
LOCATION:Zwembad De Dukdalf\, De Reede 2a\, Brielle\, 3232 CV\, Netherlands
CATEGORIES:Training
ATTACH;FMTTYPE=image/png:https://www.deduck.nl/wp-content/uploads/2024/11/voeten.png
END:VEVENT
BEGIN:VEVENT
DTSTART;TZID=Europe/Amsterdam:20250704T180000
DTEND;TZID=Europe/Amsterdam:20250704T190000
DTSTAMP:20260421T182117
CREATED:20241130T211010Z
LAST-MODIFIED:20241130T211010Z
UID:10655-1751652000-1751655600@www.deduck.nl
SUMMARY:Training
DESCRIPTION:Training – wedstrijdzwemmers en triatleten vanaf 10 jaar
URL:https://www.deduck.nl/event/training-541/
LOCATION:Zwembad De Dukdalf\, De Reede 2a\, Brielle\, 3232 CV\, Netherlands
CATEGORIES:Training
ATTACH;FMTTYPE=image/png:https://www.deduck.nl/wp-content/uploads/2024/11/voeten.png
END:VEVENT
BEGIN:VEVENT
DTSTART;TZID=Europe/Amsterdam:20250705T080000
DTEND;TZID=Europe/Amsterdam:20250705T090000
DTSTAMP:20260421T182117
CREATED:20241130T211142Z
LAST-MODIFIED:20241130T211142Z
UID:10685-1751702400-1751706000@www.deduck.nl
SUMMARY:Training
DESCRIPTION:Training – alle zwemgroepen alle leeftijden
URL:https://www.deduck.nl/event/training-571/
LOCATION:Zwembad De Dukdalf\, De Reede 2a\, Brielle\, 3232 CV\, Netherlands
CATEGORIES:Training
ATTACH;FMTTYPE=image/png:https://www.deduck.nl/wp-content/uploads/2024/11/voeten.png
END:VEVENT
BEGIN:VEVENT
DTSTART;TZID=Europe/Amsterdam:20250707T181500
DTEND;TZID=Europe/Amsterdam:20250720T191500
DTSTAMP:20260421T182117
CREATED:20241130T203237Z
LAST-MODIFIED:20241130T203237Z
UID:10448-1751912100-1753038900@www.deduck.nl
SUMMARY:Training
DESCRIPTION:Training – wedstrijdzwemmers en triatleten vanaf 16 jaar
URL:https://www.deduck.nl/event/training-345/
LOCATION:Zwembad De Dukdalf\, De Reede 2a\, Brielle\, 3232 CV\, Netherlands
CATEGORIES:Training
ATTACH;FMTTYPE=image/png:https://www.deduck.nl/wp-content/uploads/2024/11/voeten.png
END:VEVENT
BEGIN:VEVENT
DTSTART;TZID=Europe/Amsterdam:20250707T191500
DTEND;TZID=Europe/Amsterdam:20250720T201500
DTSTAMP:20260421T182117
CREATED:20241130T203451Z
LAST-MODIFIED:20241130T203451Z
UID:10491-1751915700-1753042500@www.deduck.nl
SUMMARY:Training
DESCRIPTION:Training – wedstrijdzwemmers vanaf 18 jaar alle niveaus
URL:https://www.deduck.nl/event/training-388/
LOCATION:Zwembad De Dukdalf\, De Reede 2a\, Brielle\, 3232 CV\, Netherlands
CATEGORIES:Training
ATTACH;FMTTYPE=image/png:https://www.deduck.nl/wp-content/uploads/2024/11/voeten.png
END:VEVENT
BEGIN:VEVENT
DTSTART;TZID=Europe/Amsterdam:20250708T200000
DTEND;TZID=Europe/Amsterdam:20250708T210000
DTSTAMP:20260421T182117
CREATED:20241130T204038Z
LAST-MODIFIED:20241130T204038Z
UID:10533-1752004800-1752008400@www.deduck.nl
SUMMARY:Training
DESCRIPTION:Training – wedstrijdzwemmers alle leeftijden alle niveaus
URL:https://www.deduck.nl/event/training-430/
LOCATION:Zwembad De Dukdalf\, De Reede 2a\, Brielle\, 3232 CV\, Netherlands
CATEGORIES:Training
ATTACH;FMTTYPE=image/png:https://www.deduck.nl/wp-content/uploads/2024/11/voeten.png
END:VEVENT
BEGIN:VEVENT
DTSTART;TZID=Europe/Amsterdam:20250710T180000
DTEND;TZID=Europe/Amsterdam:20250710T190000
DTSTAMP:20260421T182117
CREATED:20241130T204616Z
LAST-MODIFIED:20241130T204616Z
UID:10570-1752170400-1752174000@www.deduck.nl
SUMMARY:Training
DESCRIPTION:Training – wedstrijdzwemmers t/m 17 jaar alle niveaus
URL:https://www.deduck.nl/event/training-467/
LOCATION:Zwembad De Dukdalf\, De Reede 2a\, Brielle\, 3232 CV\, Netherlands
CATEGORIES:Training
ATTACH;FMTTYPE=image/png:https://www.deduck.nl/wp-content/uploads/2024/11/voeten.png
END:VEVENT
BEGIN:VEVENT
DTSTART;TZID=Europe/Amsterdam:20250710T190000
DTEND;TZID=Europe/Amsterdam:20250710T200000
DTSTAMP:20260421T182117
CREATED:20241130T210041Z
LAST-MODIFIED:20241130T210041Z
UID:10613-1752174000-1752177600@www.deduck.nl
SUMMARY:Training
DESCRIPTION:Training – wedstrijdzwemmers vanaf 18 jaar alle niveaus
URL:https://www.deduck.nl/event/training-504/
LOCATION:Zwembad De Dukdalf\, De Reede 2a\, Brielle\, 3232 CV\, Netherlands
CATEGORIES:Training
ATTACH;FMTTYPE=image/png:https://www.deduck.nl/wp-content/uploads/2024/11/voeten.png
END:VEVENT
BEGIN:VEVENT
DTSTART;TZID=Europe/Amsterdam:20250711T180000
DTEND;TZID=Europe/Amsterdam:20250711T190000
DTSTAMP:20260421T182117
CREATED:20241130T211011Z
LAST-MODIFIED:20241130T211011Z
UID:10656-1752256800-1752260400@www.deduck.nl
SUMMARY:Training
DESCRIPTION:Training – wedstrijdzwemmers en triatleten vanaf 10 jaar
URL:https://www.deduck.nl/event/training-542/
LOCATION:Zwembad De Dukdalf\, De Reede 2a\, Brielle\, 3232 CV\, Netherlands
CATEGORIES:Training
ATTACH;FMTTYPE=image/png:https://www.deduck.nl/wp-content/uploads/2024/11/voeten.png
END:VEVENT
BEGIN:VEVENT
DTSTART;TZID=Europe/Amsterdam:20250712T080000
DTEND;TZID=Europe/Amsterdam:20250712T090000
DTSTAMP:20260421T182117
CREATED:20241130T211154Z
LAST-MODIFIED:20241130T211154Z
UID:10686-1752307200-1752310800@www.deduck.nl
SUMMARY:Training
DESCRIPTION:Training – alle zwemgroepen alle leeftijden
URL:https://www.deduck.nl/event/training-572/
LOCATION:Zwembad De Dukdalf\, De Reede 2a\, Brielle\, 3232 CV\, Netherlands
CATEGORIES:Training
ATTACH;FMTTYPE=image/png:https://www.deduck.nl/wp-content/uploads/2024/11/voeten.png
END:VEVENT
BEGIN:VEVENT
DTSTART;TZID=Europe/Amsterdam:20250714T181500
DTEND;TZID=Europe/Amsterdam:20250727T191500
DTSTAMP:20260421T182117
CREATED:20241130T203238Z
LAST-MODIFIED:20241130T203238Z
UID:10449-1752516900-1753643700@www.deduck.nl
SUMMARY:Training
DESCRIPTION:Training – wedstrijdzwemmers en triatleten vanaf 16 jaar
URL:https://www.deduck.nl/event/training-346/
LOCATION:Zwembad De Dukdalf\, De Reede 2a\, Brielle\, 3232 CV\, Netherlands
CATEGORIES:Training
ATTACH;FMTTYPE=image/png:https://www.deduck.nl/wp-content/uploads/2024/11/voeten.png
END:VEVENT
BEGIN:VEVENT
DTSTART;TZID=Europe/Amsterdam:20250714T191500
DTEND;TZID=Europe/Amsterdam:20250727T201500
DTSTAMP:20260421T182117
CREATED:20241130T203452Z
LAST-MODIFIED:20241130T203452Z
UID:10492-1752520500-1753647300@www.deduck.nl
SUMMARY:Training
DESCRIPTION:Training – wedstrijdzwemmers vanaf 18 jaar alle niveaus
URL:https://www.deduck.nl/event/training-389/
LOCATION:Zwembad De Dukdalf\, De Reede 2a\, Brielle\, 3232 CV\, Netherlands
CATEGORIES:Training
ATTACH;FMTTYPE=image/png:https://www.deduck.nl/wp-content/uploads/2024/11/voeten.png
END:VEVENT
BEGIN:VEVENT
DTSTART;TZID=Europe/Amsterdam:20250715T200000
DTEND;TZID=Europe/Amsterdam:20250715T210000
DTSTAMP:20260421T182117
CREATED:20241130T204039Z
LAST-MODIFIED:20241130T204039Z
UID:10534-1752609600-1752613200@www.deduck.nl
SUMMARY:Training
DESCRIPTION:Training – wedstrijdzwemmers alle leeftijden alle niveaus
URL:https://www.deduck.nl/event/training-431/
LOCATION:Zwembad De Dukdalf\, De Reede 2a\, Brielle\, 3232 CV\, Netherlands
CATEGORIES:Training
ATTACH;FMTTYPE=image/png:https://www.deduck.nl/wp-content/uploads/2024/11/voeten.png
END:VEVENT
BEGIN:VEVENT
DTSTART;TZID=Europe/Amsterdam:20250717T180000
DTEND;TZID=Europe/Amsterdam:20250717T190000
DTSTAMP:20260421T182117
CREATED:20241130T204617Z
LAST-MODIFIED:20241130T204617Z
UID:10571-1752775200-1752778800@www.deduck.nl
SUMMARY:Training
DESCRIPTION:Training – wedstrijdzwemmers t/m 17 jaar alle niveaus
URL:https://www.deduck.nl/event/training-468/
LOCATION:Zwembad De Dukdalf\, De Reede 2a\, Brielle\, 3232 CV\, Netherlands
CATEGORIES:Training
ATTACH;FMTTYPE=image/png:https://www.deduck.nl/wp-content/uploads/2024/11/voeten.png
END:VEVENT
BEGIN:VEVENT
DTSTART;TZID=Europe/Amsterdam:20250717T190000
DTEND;TZID=Europe/Amsterdam:20250717T200000
DTSTAMP:20260421T182117
CREATED:20241130T210048Z
LAST-MODIFIED:20241130T210048Z
UID:10614-1752778800-1752782400@www.deduck.nl
SUMMARY:Training
DESCRIPTION:Training – wedstrijdzwemmers vanaf 18 jaar alle niveaus
URL:https://www.deduck.nl/event/training-505/
LOCATION:Zwembad De Dukdalf\, De Reede 2a\, Brielle\, 3232 CV\, Netherlands
CATEGORIES:Training
ATTACH;FMTTYPE=image/png:https://www.deduck.nl/wp-content/uploads/2024/11/voeten.png
END:VEVENT
BEGIN:VEVENT
DTSTART;TZID=Europe/Amsterdam:20250718T180000
DTEND;TZID=Europe/Amsterdam:20250718T190000
DTSTAMP:20260421T182117
CREATED:20241130T211012Z
LAST-MODIFIED:20241130T211012Z
UID:10657-1752861600-1752865200@www.deduck.nl
SUMMARY:Training
DESCRIPTION:Training – wedstrijdzwemmers en triatleten vanaf 10 jaar
URL:https://www.deduck.nl/event/training-543/
LOCATION:Zwembad De Dukdalf\, De Reede 2a\, Brielle\, 3232 CV\, Netherlands
CATEGORIES:Training
ATTACH;FMTTYPE=image/png:https://www.deduck.nl/wp-content/uploads/2024/11/voeten.png
END:VEVENT
BEGIN:VEVENT
DTSTART;TZID=Europe/Amsterdam:20250719T080000
DTEND;TZID=Europe/Amsterdam:20250719T090000
DTSTAMP:20260421T182117
CREATED:20241130T211154Z
LAST-MODIFIED:20241130T211154Z
UID:10687-1752912000-1752915600@www.deduck.nl
SUMMARY:Training
DESCRIPTION:Training – alle zwemgroepen alle leeftijden
URL:https://www.deduck.nl/event/training-573/
LOCATION:Zwembad De Dukdalf\, De Reede 2a\, Brielle\, 3232 CV\, Netherlands
CATEGORIES:Training
ATTACH;FMTTYPE=image/png:https://www.deduck.nl/wp-content/uploads/2024/11/voeten.png
END:VEVENT
BEGIN:VEVENT
DTSTART;TZID=Europe/Amsterdam:20250722T200000
DTEND;TZID=Europe/Amsterdam:20250722T210000
DTSTAMP:20260421T182117
CREATED:20241130T204040Z
LAST-MODIFIED:20241130T204040Z
UID:10535-1753214400-1753218000@www.deduck.nl
SUMMARY:Training
DESCRIPTION:Training – wedstrijdzwemmers alle leeftijden alle niveaus
URL:https://www.deduck.nl/event/training-432/
LOCATION:Zwembad De Dukdalf\, De Reede 2a\, Brielle\, 3232 CV\, Netherlands
CATEGORIES:Training
ATTACH;FMTTYPE=image/png:https://www.deduck.nl/wp-content/uploads/2024/11/voeten.png
END:VEVENT
END:VCALENDAR