BEGIN:VCALENDAR
VERSION:2.0
PRODID:-//de Duck - ECPv6.15.20//NONSGML v1.0//EN
CALSCALE:GREGORIAN
METHOD:PUBLISH
X-WR-CALNAME:de Duck
X-ORIGINAL-URL:https://www.deduck.nl
X-WR-CALDESC:Events for de Duck
REFRESH-INTERVAL;VALUE=DURATION:PT1H
X-Robots-Tag:noindex
X-PUBLISHED-TTL:PT1H
BEGIN:VTIMEZONE
TZID:Europe/Amsterdam
BEGIN:DAYLIGHT
TZOFFSETFROM:+0100
TZOFFSETTO:+0200
TZNAME:CEST
DTSTART:20240331T010000
END:DAYLIGHT
BEGIN:STANDARD
TZOFFSETFROM:+0200
TZOFFSETTO:+0100
TZNAME:CET
DTSTART:20241027T010000
END:STANDARD
BEGIN:DAYLIGHT
TZOFFSETFROM:+0100
TZOFFSETTO:+0200
TZNAME:CEST
DTSTART:20250330T010000
END:DAYLIGHT
BEGIN:STANDARD
TZOFFSETFROM:+0200
TZOFFSETTO:+0100
TZNAME:CET
DTSTART:20251026T010000
END:STANDARD
BEGIN:DAYLIGHT
TZOFFSETFROM:+0100
TZOFFSETTO:+0200
TZNAME:CEST
DTSTART:20260329T010000
END:DAYLIGHT
BEGIN:STANDARD
TZOFFSETFROM:+0200
TZOFFSETTO:+0100
TZNAME:CET
DTSTART:20261025T010000
END:STANDARD
END:VTIMEZONE
BEGIN:VEVENT
DTSTART;TZID=Europe/Amsterdam:20250501T190000
DTEND;TZID=Europe/Amsterdam:20250501T200000
DTSTAMP:20260421T110010
CREATED:20241130T205648Z
LAST-MODIFIED:20241130T205648Z
UID:10602-1746126000-1746129600@www.deduck.nl
SUMMARY:Training
DESCRIPTION:Training – wedstrijdzwemmers vanaf 18 jaar alle niveaus
URL:https://www.deduck.nl/event/training-495/
LOCATION:Zwembad De Dukdalf\, De Reede 2a\, Brielle\, 3232 CV\, Netherlands
CATEGORIES:Training
ATTACH;FMTTYPE=image/png:https://www.deduck.nl/wp-content/uploads/2024/11/voeten.png
END:VEVENT
BEGIN:VEVENT
DTSTART;TZID=Europe/Amsterdam:20250502T180000
DTEND;TZID=Europe/Amsterdam:20250502T190000
DTSTAMP:20260421T110010
CREATED:20241130T210941Z
LAST-MODIFIED:20241130T210941Z
UID:10646-1746208800-1746212400@www.deduck.nl
SUMMARY:Training
DESCRIPTION:Training – wedstrijdzwemmers en triatleten vanaf 10 jaar
URL:https://www.deduck.nl/event/training-532/
LOCATION:Zwembad De Dukdalf\, De Reede 2a\, Brielle\, 3232 CV\, Netherlands
CATEGORIES:Training
ATTACH;FMTTYPE=image/png:https://www.deduck.nl/wp-content/uploads/2024/11/voeten.png
END:VEVENT
BEGIN:VEVENT
DTSTART;TZID=Europe/Amsterdam:20250503T080000
DTEND;TZID=Europe/Amsterdam:20250503T090000
DTSTAMP:20260421T110010
CREATED:20241130T211124Z
LAST-MODIFIED:20241130T211124Z
UID:10676-1746259200-1746262800@www.deduck.nl
SUMMARY:Training
DESCRIPTION:Training – alle zwemgroepen alle leeftijden
URL:https://www.deduck.nl/event/training-562/
LOCATION:Zwembad De Dukdalf\, De Reede 2a\, Brielle\, 3232 CV\, Netherlands
CATEGORIES:Training
ATTACH;FMTTYPE=image/png:https://www.deduck.nl/wp-content/uploads/2024/11/voeten.png
END:VEVENT
BEGIN:VEVENT
DTSTART;TZID=Europe/Amsterdam:20250506T200000
DTEND;TZID=Europe/Amsterdam:20250506T210000
DTSTAMP:20260421T110010
CREATED:20241130T203637Z
LAST-MODIFIED:20241130T203637Z
UID:10524-1746561600-1746565200@www.deduck.nl
SUMMARY:Training
DESCRIPTION:Training – wedstrijdzwemmers alle leeftijden alle niveaus
URL:https://www.deduck.nl/event/training-421/
LOCATION:Zwembad De Dukdalf\, De Reede 2a\, Brielle\, 3232 CV\, Netherlands
CATEGORIES:Training
ATTACH;FMTTYPE=image/png:https://www.deduck.nl/wp-content/uploads/2024/11/voeten.png
END:VEVENT
BEGIN:VEVENT
DTSTART;TZID=Europe/Amsterdam:20250508T180000
DTEND;TZID=Europe/Amsterdam:20250508T190000
DTSTAMP:20260421T110010
CREATED:20241130T204547Z
LAST-MODIFIED:20241130T204547Z
UID:10562-1746727200-1746730800@www.deduck.nl
SUMMARY:Training
DESCRIPTION:Training – wedstrijdzwemmers t/m 17 jaar alle niveaus
URL:https://www.deduck.nl/event/training-459/
LOCATION:Zwembad De Dukdalf\, De Reede 2a\, Brielle\, 3232 CV\, Netherlands
CATEGORIES:Training
ATTACH;FMTTYPE=image/png:https://www.deduck.nl/wp-content/uploads/2024/11/voeten.png
END:VEVENT
BEGIN:VEVENT
DTSTART;TZID=Europe/Amsterdam:20250508T190000
DTEND;TZID=Europe/Amsterdam:20250508T200000
DTSTAMP:20260421T110010
CREATED:20241130T205648Z
LAST-MODIFIED:20241130T205648Z
UID:10603-1746730800-1746734400@www.deduck.nl
SUMMARY:Training
DESCRIPTION:Training – wedstrijdzwemmers vanaf 18 jaar alle niveaus
URL:https://www.deduck.nl/event/training-496/
LOCATION:Zwembad De Dukdalf\, De Reede 2a\, Brielle\, 3232 CV\, Netherlands
CATEGORIES:Training
ATTACH;FMTTYPE=image/png:https://www.deduck.nl/wp-content/uploads/2024/11/voeten.png
END:VEVENT
BEGIN:VEVENT
DTSTART;TZID=Europe/Amsterdam:20250509T180000
DTEND;TZID=Europe/Amsterdam:20250509T190000
DTSTAMP:20260421T110010
CREATED:20241130T210942Z
LAST-MODIFIED:20241130T210942Z
UID:10647-1746813600-1746817200@www.deduck.nl
SUMMARY:Training
DESCRIPTION:Training – wedstrijdzwemmers en triatleten vanaf 10 jaar
URL:https://www.deduck.nl/event/training-533/
LOCATION:Zwembad De Dukdalf\, De Reede 2a\, Brielle\, 3232 CV\, Netherlands
CATEGORIES:Training
ATTACH;FMTTYPE=image/png:https://www.deduck.nl/wp-content/uploads/2024/11/voeten.png
END:VEVENT
BEGIN:VEVENT
DTSTART;TZID=Europe/Amsterdam:20250510T080000
DTEND;TZID=Europe/Amsterdam:20250510T090000
DTSTAMP:20260421T110010
CREATED:20241130T211125Z
LAST-MODIFIED:20241130T211125Z
UID:10677-1746864000-1746867600@www.deduck.nl
SUMMARY:Training
DESCRIPTION:Training – alle zwemgroepen alle leeftijden
URL:https://www.deduck.nl/event/training-563/
LOCATION:Zwembad De Dukdalf\, De Reede 2a\, Brielle\, 3232 CV\, Netherlands
CATEGORIES:Training
ATTACH;FMTTYPE=image/png:https://www.deduck.nl/wp-content/uploads/2024/11/voeten.png
END:VEVENT
BEGIN:VEVENT
DTSTART;TZID=Europe/Amsterdam:20250512T181500
DTEND;TZID=Europe/Amsterdam:20250525T191500
DTSTAMP:20260421T110010
CREATED:20241130T203221Z
LAST-MODIFIED:20241130T203221Z
UID:10441-1747073700-1748200500@www.deduck.nl
SUMMARY:Training
DESCRIPTION:Training – wedstrijdzwemmers en triatleten vanaf 16 jaar
URL:https://www.deduck.nl/event/training-338/
LOCATION:Zwembad De Dukdalf\, De Reede 2a\, Brielle\, 3232 CV\, Netherlands
CATEGORIES:Training
ATTACH;FMTTYPE=image/png:https://www.deduck.nl/wp-content/uploads/2024/11/voeten.png
END:VEVENT
BEGIN:VEVENT
DTSTART;TZID=Europe/Amsterdam:20250512T191500
DTEND;TZID=Europe/Amsterdam:20250525T201500
DTSTAMP:20260421T110010
CREATED:20241130T203423Z
LAST-MODIFIED:20241130T203423Z
UID:10484-1747077300-1748204100@www.deduck.nl
SUMMARY:Training
DESCRIPTION:Training – wedstrijdzwemmers vanaf 18 jaar alle niveaus
URL:https://www.deduck.nl/event/training-381/
LOCATION:Zwembad De Dukdalf\, De Reede 2a\, Brielle\, 3232 CV\, Netherlands
CATEGORIES:Training
ATTACH;FMTTYPE=image/png:https://www.deduck.nl/wp-content/uploads/2024/11/voeten.png
END:VEVENT
BEGIN:VEVENT
DTSTART;TZID=Europe/Amsterdam:20250513T200000
DTEND;TZID=Europe/Amsterdam:20250513T210000
DTSTAMP:20260421T110010
CREATED:20241130T203637Z
LAST-MODIFIED:20241130T203637Z
UID:10525-1747166400-1747170000@www.deduck.nl
SUMMARY:Training
DESCRIPTION:Training – wedstrijdzwemmers alle leeftijden alle niveaus
URL:https://www.deduck.nl/event/training-422/
LOCATION:Zwembad De Dukdalf\, De Reede 2a\, Brielle\, 3232 CV\, Netherlands
CATEGORIES:Training
ATTACH;FMTTYPE=image/png:https://www.deduck.nl/wp-content/uploads/2024/11/voeten.png
END:VEVENT
BEGIN:VEVENT
DTSTART;TZID=Europe/Amsterdam:20250515T180000
DTEND;TZID=Europe/Amsterdam:20250515T190000
DTSTAMP:20260421T110010
CREATED:20241130T204559Z
LAST-MODIFIED:20241130T204559Z
UID:10563-1747332000-1747335600@www.deduck.nl
SUMMARY:Training
DESCRIPTION:Training – wedstrijdzwemmers t/m 17 jaar alle niveaus
URL:https://www.deduck.nl/event/training-460/
LOCATION:Zwembad De Dukdalf\, De Reede 2a\, Brielle\, 3232 CV\, Netherlands
CATEGORIES:Training
ATTACH;FMTTYPE=image/png:https://www.deduck.nl/wp-content/uploads/2024/11/voeten.png
END:VEVENT
BEGIN:VEVENT
DTSTART;TZID=Europe/Amsterdam:20250515T190000
DTEND;TZID=Europe/Amsterdam:20250515T200000
DTSTAMP:20260421T110010
CREATED:20241130T205649Z
LAST-MODIFIED:20241130T205649Z
UID:10604-1747335600-1747339200@www.deduck.nl
SUMMARY:Training
DESCRIPTION:Training – wedstrijdzwemmers vanaf 18 jaar alle niveaus
URL:https://www.deduck.nl/event/training-497/
LOCATION:Zwembad De Dukdalf\, De Reede 2a\, Brielle\, 3232 CV\, Netherlands
CATEGORIES:Training
ATTACH;FMTTYPE=image/png:https://www.deduck.nl/wp-content/uploads/2024/11/voeten.png
END:VEVENT
BEGIN:VEVENT
DTSTART;TZID=Europe/Amsterdam:20250516T180000
DTEND;TZID=Europe/Amsterdam:20250516T190000
DTSTAMP:20260421T110010
CREATED:20241130T210954Z
LAST-MODIFIED:20241130T210954Z
UID:10648-1747418400-1747422000@www.deduck.nl
SUMMARY:Training
DESCRIPTION:Training – wedstrijdzwemmers en triatleten vanaf 10 jaar
URL:https://www.deduck.nl/event/training-534/
LOCATION:Zwembad De Dukdalf\, De Reede 2a\, Brielle\, 3232 CV\, Netherlands
CATEGORIES:Training
ATTACH;FMTTYPE=image/png:https://www.deduck.nl/wp-content/uploads/2024/11/voeten.png
END:VEVENT
BEGIN:VEVENT
DTSTART;TZID=Europe/Amsterdam:20250517T080000
DTEND;TZID=Europe/Amsterdam:20250517T090000
DTSTAMP:20260421T110010
CREATED:20241130T211125Z
LAST-MODIFIED:20241130T211125Z
UID:10678-1747468800-1747472400@www.deduck.nl
SUMMARY:Training
DESCRIPTION:Training – alle zwemgroepen alle leeftijden
URL:https://www.deduck.nl/event/training-564/
LOCATION:Zwembad De Dukdalf\, De Reede 2a\, Brielle\, 3232 CV\, Netherlands
CATEGORIES:Training
ATTACH;FMTTYPE=image/png:https://www.deduck.nl/wp-content/uploads/2024/11/voeten.png
END:VEVENT
BEGIN:VEVENT
DTSTART;TZID=Europe/Amsterdam:20250519T181500
DTEND;TZID=Europe/Amsterdam:20250601T191500
DTSTAMP:20260421T110010
CREATED:20241130T203222Z
LAST-MODIFIED:20241130T203222Z
UID:10442-1747678500-1748805300@www.deduck.nl
SUMMARY:Training
DESCRIPTION:Training – wedstrijdzwemmers en triatleten vanaf 16 jaar
URL:https://www.deduck.nl/event/training-339/
LOCATION:Zwembad De Dukdalf\, De Reede 2a\, Brielle\, 3232 CV\, Netherlands
CATEGORIES:Training
ATTACH;FMTTYPE=image/png:https://www.deduck.nl/wp-content/uploads/2024/11/voeten.png
END:VEVENT
BEGIN:VEVENT
DTSTART;TZID=Europe/Amsterdam:20250519T191500
DTEND;TZID=Europe/Amsterdam:20250601T201500
DTSTAMP:20260421T110010
CREATED:20241130T203435Z
LAST-MODIFIED:20241130T203435Z
UID:10485-1747682100-1748808900@www.deduck.nl
SUMMARY:Training
DESCRIPTION:Training – wedstrijdzwemmers vanaf 18 jaar alle niveaus
URL:https://www.deduck.nl/event/training-382/
LOCATION:Zwembad De Dukdalf\, De Reede 2a\, Brielle\, 3232 CV\, Netherlands
CATEGORIES:Training
ATTACH;FMTTYPE=image/png:https://www.deduck.nl/wp-content/uploads/2024/11/voeten.png
END:VEVENT
BEGIN:VEVENT
DTSTART;TZID=Europe/Amsterdam:20250520T200000
DTEND;TZID=Europe/Amsterdam:20250520T210000
DTSTAMP:20260421T110010
CREATED:20241130T203638Z
LAST-MODIFIED:20241130T203638Z
UID:10526-1747771200-1747774800@www.deduck.nl
SUMMARY:Training
DESCRIPTION:Training – wedstrijdzwemmers alle leeftijden alle niveaus
URL:https://www.deduck.nl/event/training-423/
LOCATION:Zwembad De Dukdalf\, De Reede 2a\, Brielle\, 3232 CV\, Netherlands
CATEGORIES:Training
ATTACH;FMTTYPE=image/png:https://www.deduck.nl/wp-content/uploads/2024/11/voeten.png
END:VEVENT
BEGIN:VEVENT
DTSTART;TZID=Europe/Amsterdam:20250522T180000
DTEND;TZID=Europe/Amsterdam:20250522T190000
DTSTAMP:20260421T110010
CREATED:20241130T204559Z
LAST-MODIFIED:20241130T204559Z
UID:10564-1747936800-1747940400@www.deduck.nl
SUMMARY:Training
DESCRIPTION:Training – wedstrijdzwemmers t/m 17 jaar alle niveaus
URL:https://www.deduck.nl/event/training-461/
LOCATION:Zwembad De Dukdalf\, De Reede 2a\, Brielle\, 3232 CV\, Netherlands
CATEGORIES:Training
ATTACH;FMTTYPE=image/png:https://www.deduck.nl/wp-content/uploads/2024/11/voeten.png
END:VEVENT
BEGIN:VEVENT
DTSTART;TZID=Europe/Amsterdam:20250522T190000
DTEND;TZID=Europe/Amsterdam:20250522T200000
DTSTAMP:20260421T110010
CREATED:20241130T205650Z
LAST-MODIFIED:20241130T205650Z
UID:10605-1747940400-1747944000@www.deduck.nl
SUMMARY:Training
DESCRIPTION:Training – wedstrijdzwemmers vanaf 18 jaar alle niveaus
URL:https://www.deduck.nl/event/training-498/
LOCATION:Zwembad De Dukdalf\, De Reede 2a\, Brielle\, 3232 CV\, Netherlands
CATEGORIES:Training
ATTACH;FMTTYPE=image/png:https://www.deduck.nl/wp-content/uploads/2024/11/voeten.png
END:VEVENT
BEGIN:VEVENT
DTSTART;TZID=Europe/Amsterdam:20250523T180000
DTEND;TZID=Europe/Amsterdam:20250523T190000
DTSTAMP:20260421T110010
CREATED:20241130T210954Z
LAST-MODIFIED:20241130T210954Z
UID:10649-1748023200-1748026800@www.deduck.nl
SUMMARY:Training
DESCRIPTION:Training – wedstrijdzwemmers en triatleten vanaf 10 jaar
URL:https://www.deduck.nl/event/training-535/
LOCATION:Zwembad De Dukdalf\, De Reede 2a\, Brielle\, 3232 CV\, Netherlands
CATEGORIES:Training
ATTACH;FMTTYPE=image/png:https://www.deduck.nl/wp-content/uploads/2024/11/voeten.png
END:VEVENT
BEGIN:VEVENT
DTSTART;TZID=Europe/Amsterdam:20250524T080000
DTEND;TZID=Europe/Amsterdam:20250524T090000
DTSTAMP:20260421T110010
CREATED:20241130T211126Z
LAST-MODIFIED:20241130T211126Z
UID:10679-1748073600-1748077200@www.deduck.nl
SUMMARY:Training
DESCRIPTION:Training – alle zwemgroepen alle leeftijden
URL:https://www.deduck.nl/event/training-565/
LOCATION:Zwembad De Dukdalf\, De Reede 2a\, Brielle\, 3232 CV\, Netherlands
CATEGORIES:Training
ATTACH;FMTTYPE=image/png:https://www.deduck.nl/wp-content/uploads/2024/11/voeten.png
END:VEVENT
BEGIN:VEVENT
DTSTART;TZID=Europe/Amsterdam:20250526T181500
DTEND;TZID=Europe/Amsterdam:20250608T191500
DTSTAMP:20260421T110010
CREATED:20241130T203222Z
LAST-MODIFIED:20241130T203222Z
UID:10443-1748283300-1749410100@www.deduck.nl
SUMMARY:Training
DESCRIPTION:Training – wedstrijdzwemmers en triatleten vanaf 16 jaar
URL:https://www.deduck.nl/event/training-340/
LOCATION:Zwembad De Dukdalf\, De Reede 2a\, Brielle\, 3232 CV\, Netherlands
CATEGORIES:Training
ATTACH;FMTTYPE=image/png:https://www.deduck.nl/wp-content/uploads/2024/11/voeten.png
END:VEVENT
BEGIN:VEVENT
DTSTART;TZID=Europe/Amsterdam:20250526T191500
DTEND;TZID=Europe/Amsterdam:20250608T201500
DTSTAMP:20260421T110010
CREATED:20241130T203436Z
LAST-MODIFIED:20241130T203436Z
UID:10486-1748286900-1749413700@www.deduck.nl
SUMMARY:Training
DESCRIPTION:Training – wedstrijdzwemmers vanaf 18 jaar alle niveaus
URL:https://www.deduck.nl/event/training-383/
LOCATION:Zwembad De Dukdalf\, De Reede 2a\, Brielle\, 3232 CV\, Netherlands
CATEGORIES:Training
ATTACH;FMTTYPE=image/png:https://www.deduck.nl/wp-content/uploads/2024/11/voeten.png
END:VEVENT
BEGIN:VEVENT
DTSTART;TZID=Europe/Amsterdam:20250527T200000
DTEND;TZID=Europe/Amsterdam:20250527T210000
DTSTAMP:20260421T110010
CREATED:20241130T203639Z
LAST-MODIFIED:20241130T203639Z
UID:10527-1748376000-1748379600@www.deduck.nl
SUMMARY:Training
DESCRIPTION:Training – wedstrijdzwemmers alle leeftijden alle niveaus
URL:https://www.deduck.nl/event/training-424/
LOCATION:Zwembad De Dukdalf\, De Reede 2a\, Brielle\, 3232 CV\, Netherlands
CATEGORIES:Training
ATTACH;FMTTYPE=image/png:https://www.deduck.nl/wp-content/uploads/2024/11/voeten.png
END:VEVENT
BEGIN:VEVENT
DTSTART;TZID=Europe/Amsterdam:20250530T180000
DTEND;TZID=Europe/Amsterdam:20250530T190000
DTSTAMP:20260421T110010
CREATED:20241130T210955Z
LAST-MODIFIED:20241130T210955Z
UID:10650-1748628000-1748631600@www.deduck.nl
SUMMARY:Training
DESCRIPTION:Training – wedstrijdzwemmers en triatleten vanaf 10 jaar
URL:https://www.deduck.nl/event/training-536/
LOCATION:Zwembad De Dukdalf\, De Reede 2a\, Brielle\, 3232 CV\, Netherlands
CATEGORIES:Training
ATTACH;FMTTYPE=image/png:https://www.deduck.nl/wp-content/uploads/2024/11/voeten.png
END:VEVENT
BEGIN:VEVENT
DTSTART;TZID=Europe/Amsterdam:20250531T080000
DTEND;TZID=Europe/Amsterdam:20250531T090000
DTSTAMP:20260421T110010
CREATED:20241130T211127Z
LAST-MODIFIED:20241130T211127Z
UID:10680-1748678400-1748682000@www.deduck.nl
SUMMARY:Training
DESCRIPTION:Training – alle zwemgroepen alle leeftijden
URL:https://www.deduck.nl/event/training-566/
LOCATION:Zwembad De Dukdalf\, De Reede 2a\, Brielle\, 3232 CV\, Netherlands
CATEGORIES:Training
ATTACH;FMTTYPE=image/png:https://www.deduck.nl/wp-content/uploads/2024/11/voeten.png
END:VEVENT
BEGIN:VEVENT
DTSTART;TZID=Europe/Amsterdam:20250602T181500
DTEND;TZID=Europe/Amsterdam:20250615T191500
DTSTAMP:20260421T110010
CREATED:20241130T203223Z
LAST-MODIFIED:20241130T203223Z
UID:10444-1748888100-1750014900@www.deduck.nl
SUMMARY:Training
DESCRIPTION:Training – wedstrijdzwemmers en triatleten vanaf 16 jaar
URL:https://www.deduck.nl/event/training-341/
LOCATION:Zwembad De Dukdalf\, De Reede 2a\, Brielle\, 3232 CV\, Netherlands
CATEGORIES:Training
ATTACH;FMTTYPE=image/png:https://www.deduck.nl/wp-content/uploads/2024/11/voeten.png
END:VEVENT
BEGIN:VEVENT
DTSTART;TZID=Europe/Amsterdam:20250602T191500
DTEND;TZID=Europe/Amsterdam:20250615T201500
DTSTAMP:20260421T110010
CREATED:20241130T203437Z
LAST-MODIFIED:20241130T203437Z
UID:10487-1748891700-1750018500@www.deduck.nl
SUMMARY:Training
DESCRIPTION:Training – wedstrijdzwemmers vanaf 18 jaar alle niveaus
URL:https://www.deduck.nl/event/training-384/
LOCATION:Zwembad De Dukdalf\, De Reede 2a\, Brielle\, 3232 CV\, Netherlands
CATEGORIES:Training
ATTACH;FMTTYPE=image/png:https://www.deduck.nl/wp-content/uploads/2024/11/voeten.png
END:VEVENT
BEGIN:VEVENT
DTSTART;TZID=Europe/Amsterdam:20250603T200000
DTEND;TZID=Europe/Amsterdam:20250603T210000
DTSTAMP:20260421T110010
CREATED:20241130T203837Z
LAST-MODIFIED:20241130T203837Z
UID:10528-1748980800-1748984400@www.deduck.nl
SUMMARY:Training
DESCRIPTION:Training – wedstrijdzwemmers alle leeftijden alle niveaus
URL:https://www.deduck.nl/event/training-425/
LOCATION:Zwembad De Dukdalf\, De Reede 2a\, Brielle\, 3232 CV\, Netherlands
CATEGORIES:Training
ATTACH;FMTTYPE=image/png:https://www.deduck.nl/wp-content/uploads/2024/11/voeten.png
END:VEVENT
END:VCALENDAR